BEGIN:VCALENDAR
VERSION:2.0
PRODID:-//wp-events-plugin.com//7.2.3.1//EN
TZID:Europe/Warsaw
X-WR-TIMEZONE:Europe/Warsaw
BEGIN:VEVENT
UID:48713@night4u.pl
DTSTART;TZID=Europe/Warsaw:20200519T190000
DTEND;TZID=Europe/Warsaw:20200519T220000
DTSTAMP:20200424T190100Z
URL:https://night4u.pl/wydarzenia/radom-kacper-rucinski-najnowszy-program-
 mojito-virgin-3/
SUMMARY:Radom | Kacper Ruciński - najnowszy program Mojito Virgin!
DESCRIPTION:Kacper Ruciński ze swoim najnowszym programie pt. MOJITO VIRGI
 N! \nPionier polskiej sceny stand-upowej przedstawi przed Wami swój najno
 wszy materiał. Musisz tam być!\n\n*Gospodarz Sceny : Rafał Sumowski\n\n
 BILETY ONLINE:\nhttp://kbq.pl/50774
ATTACH;FMTTYPE=image/jpeg:https://night4u.pl/wp-content/uploads/2020/02/16
 6524_image_88013143_890910314701775_6569701225728573440_n.jpg
CATEGORIES:mazowieckie
LOCATION:Sala Koncertowa W Um Radom\, Ul Żeromskiego 53\, Radom\, 26-602\,
  Poland
GEO:51.401524;21.158288
X-APPLE-STRUCTURED-LOCATION;VALUE=URI;X-ADDRESS=Ul Żeromskiego 53\, Radom\
 , 26-602\, Poland;X-APPLE-RADIUS=100;X-TITLE=Sala Koncertowa W Um Radom:ge
 o:51.401524,21.158288
END:VEVENT
BEGIN:VTIMEZONE
TZID:Europe/Warsaw
X-LIC-LOCATION:Europe/Warsaw
BEGIN:DAYLIGHT
DTSTART:20200329T030000
TZOFFSETFROM:+0100
TZOFFSETTO:+0200
TZNAME:CEST
END:DAYLIGHT
END:VTIMEZONE
END:VCALENDAR