BEGIN:VCALENDAR
VERSION:2.0
PRODID:-//wp-events-plugin.com//7.2.3.1//EN
TZID:Europe/Warsaw
X-WR-TIMEZONE:Europe/Warsaw
BEGIN:VEVENT
UID:42796@night4u.pl
DTSTART;TZID=Europe/Warsaw:20200208T180000
DTEND;TZID=Europe/Warsaw:20200209T030000
DTSTAMP:20200208T073506Z
URL:https://night4u.pl/wydarzenia/rap-attack-3-08-02/
SUMMARY:Rap Attack #3 | 08.02
DESCRIPTION:Club Barka Pila i Low Gravity Beats mają przyjemność zaprosi
 ć na kolejną edycję przeglądu hip-hopowych artystów. Jest to nasza tr
 zecia impreza na której po raz kolejny udowodnimy\, że lokalne podziemie
  ma się dobrze. Tradycyjnie przedstawimy Wam sylwetki producentów muzycz
 nych z Piły i okolic\, usłyszycie weteranów i starych wyjadaczy lokalne
 j sceny jak i poznacie nowych perspektywicznych zawodników którzy będą
  mieli okazje zagrać swój pierwszy koncert przed Wami.\n\n\nLINE UP\n\n1
 9:00 PRZEGLĄD PRODUCENTÓW - Reaper.wav / Hidden in Eseszu's mind / ZWD /
  MICHAEL BLACK / OLZOO\n19:40 Tenny / Skat\n20:00 OwCzarujący\n20:20 Grow
 rappers\n20:40 OLAS\n21:00 Toten / Kowi\n21:30 Yung Rave &amp\; Karol\n22:
 00 PlateL\n22:30 Shimmy\n23:00 Finansowy Ninja &amp\; Young Durszlak\n23:2
 0 WhiteFellaz\n23:50 JTS\n00:30 Tafel JTS\n\n\n\nTAX 5 PLN\n\nPatronat ble
 nderrap.pl
ATTACH;FMTTYPE=image/jpeg:https://night4u.pl/wp-content/uploads/2020/02/13
 5838_image_84162122_691941294878970_7673795093983133696_n.jpg
CATEGORIES:wielkopolskie
LOCATION:Club Barka Pila\, ul. Wodna - rzeka Gwda\, Piła\, 64-920\, Poland
GEO:53.152085;16.738529
X-APPLE-STRUCTURED-LOCATION;VALUE=URI;X-ADDRESS=ul. Wodna - rzeka Gwda\, Pi
 ła\, 64-920\, Poland;X-APPLE-RADIUS=100;X-TITLE=Club Barka Pila:geo:53.15
 2085,16.738529
END:VEVENT
BEGIN:VTIMEZONE
TZID:Europe/Warsaw
X-LIC-LOCATION:Europe/Warsaw
BEGIN:STANDARD
DTSTART:20191027T020000
TZOFFSETFROM:+0200
TZOFFSETTO:+0100
TZNAME:CET
END:STANDARD
END:VTIMEZONE
END:VCALENDAR