BEGIN:VCALENDAR
VERSION:2.0
PRODID:-//wp-events-plugin.com//7.2.3.1//EN
TZID:Europe/Warsaw
X-WR-TIMEZONE:Europe/Warsaw
BEGIN:VEVENT
UID:43331@night4u.pl
DTSTART;TZID=Europe/Warsaw:20200116T220000
DTEND;TZID=Europe/Warsaw:20200117T050000
DTSTAMP:20200116T183837Z
URL:https://night4u.pl/wydarzenia/rap-gra-%e2%9c%b9-wac-toja-x-noz-%e2%9c%
 b9-16-01-%e2%9c%b9-mewa-goscinnie/
SUMMARY:RAP GRA ✹ WAC TOJA x NOZ ✹ 16.01 ✹ Mewa gościnnie
DESCRIPTION:Pierwsza RAP GRA gościnnie rozpanoszy się po górnym piętrze
  klubu TAN Sopot\, gdzie czeka na Was:\n\nWac Toja wraz z materiałem z na
 jnowszego album TURBOBOOST oraz singlami z  nadchodzącego wielkimi krokam
 i albumu OSTRY SOS. To prawdziwa perełka wśród rap płyt. Mocne bangery
 \, wrażliwy przekaz\, to właśnie nowy Wac Toja!\n\nGospodarz: DJ NOZ ak
 a eNOZet człowieku\n\nLista fb całą noc wstęp wolny.\nPozostali 10 zł
 .
ATTACH;FMTTYPE=image/jpeg:https://night4u.pl/wp-content/uploads/2020/01/13
 8551_image_81521971_2570822759661568_3421843759468380160_o.jpg
CATEGORIES:pomorskie
LOCATION:TAN Sopot\, Bohaterów Monte Cassino 63/6\, Sopot\, 81-767\, Polan
 d
GEO:54.44522;18.56758
X-APPLE-STRUCTURED-LOCATION;VALUE=URI;X-ADDRESS=Bohaterów Monte Cassino 63
 /6\, Sopot\, 81-767\, Poland;X-APPLE-RADIUS=100;X-TITLE=TAN Sopot:geo:54.4
 4522,18.56758
END:VEVENT
BEGIN:VTIMEZONE
TZID:Europe/Warsaw
X-LIC-LOCATION:Europe/Warsaw
BEGIN:STANDARD
DTSTART:20191027T020000
TZOFFSETFROM:+0200
TZOFFSETTO:+0100
TZNAME:CET
END:STANDARD
END:VTIMEZONE
END:VCALENDAR