BEGIN:VCALENDAR
VERSION:2.0
PRODID:-//wp-events-plugin.com//7.2.3.1//EN
TZID:Europe/Warsaw
X-WR-TIMEZONE:Europe/Warsaw
BEGIN:VEVENT
UID:14187@night4u.pl
DTSTART;TZID=Europe/Warsaw:20190815T000000
DTEND;TZID=Europe/Warsaw:20190815T235900
DTSTAMP:20190429T194950Z
URL:https://night4u.pl/wydarzenia/rapcud-15-08-2019/
SUMMARY:Rap&Cud - 15.08.2019
DESCRIPTION:Tegoroczne obchody świąt państwowo-kościelnych tj. święta
  Wojska Polskiego i święta Wniebowzięcia Matki Bożej (15 sierpnia br.)
 \, już po raz piąty z rzędu przebiegną w Legionowie pod znakiem rozryw
 ki.
ATTACH;FMTTYPE=image/jpeg:https://night4u.pl/wp-content/uploads/2019/04/35
 483_image_50257210_1286935914777937_7137208143745908736_n.jpg
CATEGORIES:mazowieckie
LOCATION:Legionowo Porusza\, ul. Piłsudskiego 41\, Legionowo\, 05-120\, Po
 land
GEO:52.39517;20.93131
X-APPLE-STRUCTURED-LOCATION;VALUE=URI;X-ADDRESS=ul. Piłsudskiego 41\, Legi
 onowo\, 05-120\, Poland;X-APPLE-RADIUS=100;X-TITLE=Legionowo Porusza:geo:5
 2.39517,20.93131
END:VEVENT
BEGIN:VTIMEZONE
TZID:Europe/Warsaw
X-LIC-LOCATION:Europe/Warsaw
BEGIN:DAYLIGHT
DTSTART:20190331T030000
TZOFFSETFROM:+0100
TZOFFSETTO:+0200
TZNAME:CEST
END:DAYLIGHT
END:VTIMEZONE
END:VCALENDAR