BEGIN:VCALENDAR
VERSION:2.0
PRODID:-//wp-events-plugin.com//7.2.3.1//EN
TZID:Europe/Warsaw
X-WR-TIMEZONE:Europe/Warsaw
BEGIN:VEVENT
UID:42634@night4u.pl
DTSTART;TZID=Europe/Warsaw:20200208T200000
DTEND;TZID=Europe/Warsaw:20200209T030000
DTSTAMP:20200208T041349Z
URL:https://night4u.pl/wydarzenia/rapnokaut-3-frosti-rege-vs-oxon-vbs-koro
 -i-inni/
SUMMARY:RapNokaut 3 - Frosti REGE vs OXON | VBS\, KORO i inni!
DESCRIPTION:Wiedzą od dawna z kim się zmierzą.\nRap gra lubi plotki\, on
 i pisać linijki które je tworzą.\n12 zawodników w 6 walkach acapella\,
  czyli pierwsza liga battle rap w Polsce powraca!\n\n✍️🥊 KUP  BILET
  NA RAPNOKAUT 3 🥊✍️\nhttps://ticketos.pl/event/2775/rapnokaut-3\n08
 .02.2020  klub Iskra\, Wwa..\ndo 06.02 i na wejściu 50zł \n\nSponsor gł
 ówny:\nhttps://www.instagram.com/blank.best.official/\n\n🃏KARTA WALK\n
 \nFrosti Rege Oficjalnie vs. Oxon (walka wieczoru) \n\nKoro vs. Toczek\nYo
 u_Rec vs. Syn Młynarza\nVBS vs. LUBER\nKaz vs. Radar Oficjalnie\nGruba Gr
 ubo vs. Gwiazda\n\n⚡ZASADY WALK\nWszystkie walki odbywają się w formul
 e acapella.\n\nWalka - walka składa się z dwóch rund czyli w sumie podc
 zas walki zobaczymy cztery wejścia.\nRunda - jedna runda to dwa wejścia\
 , po jednym każdego zawodnika.\nWejście - każdy zawodnik w ramach jedne
 j rundy ma jedno wejście.\nktóre zazwyczaj powinno trwać nie dłużej n
 iż 3min.\nWerdykt - zazwyczaj o wygranej decyduje grono ekspertów.\n\n
 ⚡PROWADZENIE\nAdMa\n https://www.instagram.com/adma_exorientelux\nWojtek
  (4 x mistrz największej ligi we Francji)\nhttps://www.instagram.com/wojt
 eklewojtek\nSiwydym\nhttps://www.instagram.com/siwunio\nDJ Simple\nhttps:/
 /www.instagram.com/djsimple_\n\nSprawdź:\nhttps://www.instagram.com/Rapno
 kaut \nhttps://www.youtube.com/Rapnokaut \n\n🤝WSPÓŁPRACA\nredakcja@ra
 pnews.pl  \n\n🍕 PIZZA BOYZ\n\n🔎PATRONAT\nhttps://www.rapnews.pl  \nh
 ttps://www.rapwpolsce.com  \nhttps://www.hip-hop.pl  \nhttps://www.popkill
 er.pl\nhttps://www.stoprocent.com \nhttps://genius.com/artists/Rap-genius-
 polska
ATTACH;FMTTYPE=image/jpeg:https://night4u.pl/wp-content/uploads/2020/02/13
 4710_image_84330614_3818588228181762_8429285673915121664_n.jpg
CATEGORIES:mazowieckie
LOCATION:ISKRA Pole Mokotowskie\, Wawelska 5\, Warsaw\, 02-034\, Poland
GEO:52.213781;20.994384
X-APPLE-STRUCTURED-LOCATION;VALUE=URI;X-ADDRESS=Wawelska 5\, Warsaw\, 02-03
 4\, Poland;X-APPLE-RADIUS=100;X-TITLE=ISKRA Pole Mokotowskie:geo:52.213781
 ,20.994384
END:VEVENT
BEGIN:VTIMEZONE
TZID:Europe/Warsaw
X-LIC-LOCATION:Europe/Warsaw
BEGIN:STANDARD
DTSTART:20191027T020000
TZOFFSETFROM:+0200
TZOFFSETTO:+0100
TZNAME:CET
END:STANDARD
END:VTIMEZONE
END:VCALENDAR