BEGIN:VCALENDAR
VERSION:2.0
PRODID:-//wp-events-plugin.com//7.2.3.1//EN
TZID:Europe/Warsaw
X-WR-TIMEZONE:Europe/Warsaw
BEGIN:VEVENT
UID:23022@night4u.pl
DTSTART;TZID=Europe/Warsaw:20190816T200000
DTEND;TZID=Europe/Warsaw:20190817T050000
DTSTAMP:20190724T175824Z
URL:https://night4u.pl/wydarzenia/rasmentalism-dj-set-2/
SUMMARY:Rasmentalism DJ SET
DESCRIPTION:Rasmentalism to duet: Ras i Ment XXL. Działają wspólnie od p
 onad dekady. W tym czasie stworzyli siedem albumów i przemierzyli kraj gr
 ając setki koncertów w wielu polskich miastach i na największych festiw
 alach. \nA w Plenerze zagrają swoje ulubione piosenki taneczne ⭐️\nLo
 kalne wsparcie: dj Raz Dwa\n\nUbierz mniej\, wypij więcej.\nWidzimy się 
 przy barze\, na leżakach\, na parkiecie\, a na koniec możecie zasnąć n
 a trawie ?\n\nstart 20 / fb free do 23/ 10zł \n+18\n\n@ REZERWACJE @\nWsz
 ystkie informacje dotyczące rezerwacji:\n601-552-013\nagata.mietelska@dkl
 ublin.pl\nZe względów bezpieczeństwa\, uczulamy\, żeby nie przechodzi
 ć przez ulicę w niedozwolonych miejscach.
ATTACH;FMTTYPE=image/jpeg:https://night4u.pl/wp-content/uploads/2019/07/54
 394_image_67733285_2452193931504080_5454205799851098112_o.jpg
CATEGORIES:lubelskie
LOCATION:PLENER\, Aleja Józefa Piłsudskiego\, Lublin\, 20-406\, Poland
GEO:51.23623;22.565086
X-APPLE-STRUCTURED-LOCATION;VALUE=URI;X-ADDRESS=Aleja Józefa Piłsudskiego
 \, Lublin\, 20-406\, Poland;X-APPLE-RADIUS=100;X-TITLE=PLENER:geo:51.23623
 ,22.565086
END:VEVENT
BEGIN:VTIMEZONE
TZID:Europe/Warsaw
X-LIC-LOCATION:Europe/Warsaw
BEGIN:DAYLIGHT
DTSTART:20190331T030000
TZOFFSETFROM:+0100
TZOFFSETTO:+0200
TZNAME:CEST
END:DAYLIGHT
END:VTIMEZONE
END:VCALENDAR