BEGIN:VCALENDAR
VERSION:2.0
PRODID:-//wp-events-plugin.com//7.2.3.1//EN
TZID:Europe/Warsaw
X-WR-TIMEZONE:Europe/Warsaw
BEGIN:VEVENT
UID:46159@night4u.pl
DTSTART;TZID=Europe/Warsaw:20200328T200000
DTEND;TZID=Europe/Warsaw:20200328T220000
DTSTAMP:20200309T002741Z
URL:https://night4u.pl/wydarzenia/rasmentalism-geniusz-lublin/
SUMMARY:Rasmentalism: GENIUSZ - Lublin
DESCRIPTION:Rasmentalism rusza w trasę po największych polskich miastach 
 tuż po premierze najnowszego\, piątego albumu pt. GENIUSZ. Wasz ulubiony
  koncertowy tercet zagra premierowo live wersje numerów z GENIUSZA uzupe
 łnione kilkoma starszymi klasykami.\n\nZapraszamy do Domu Kultury na hał
 as\, taniec i bycie sobą. \n\nDrzwi: 20.00\nKoncert: 21.00\n\nBilety na G
 oing. Ilość ograniczona. Czas start!
ATTACH;FMTTYPE=image/jpeg:https://night4u.pl/wp-content/uploads/2020/02/15
 1357_image_84074037_3259863054029647_6136074983857717248_n.jpg
CATEGORIES:lubelskie
LOCATION:Dom Kultury\, ul. Krakowskie Przedmieście 19\, Lublin\, 20-002\, 
 Poland
GEO:51.24787;22.56342
X-APPLE-STRUCTURED-LOCATION;VALUE=URI;X-ADDRESS=ul. Krakowskie Przedmieści
 e 19\, Lublin\, 20-002\, Poland;X-APPLE-RADIUS=100;X-TITLE=Dom Kultury:geo
 :51.24787,22.56342
END:VEVENT
BEGIN:VTIMEZONE
TZID:Europe/Warsaw
X-LIC-LOCATION:Europe/Warsaw
BEGIN:STANDARD
DTSTART:20191027T020000
TZOFFSETFROM:+0200
TZOFFSETTO:+0100
TZNAME:CET
END:STANDARD
END:VTIMEZONE
END:VCALENDAR