BEGIN:VCALENDAR
VERSION:2.0
PRODID:-//wp-events-plugin.com//7.2.3.1//EN
TZID:Europe/Warsaw
X-WR-TIMEZONE:Europe/Warsaw
BEGIN:VEVENT
UID:3700@night4u.pl
DTSTART;TZID=Europe/Warsaw:20190412T200000
DTEND;TZID=Europe/Warsaw:20190412T230000
DTSTAMP:20190116T101542Z
URL:https://night4u.pl/wydarzenia/rau-performance-12-4-poznan/
SUMMARY:RAU Performance / 12.4 / Poznań
DESCRIPTION:Po wyprzedanym koncercie w klubie Schron pod koniec 2018\, zapr
 aszamy na kolejny występ Rau Performance w Poznaniu!\nArtysta zagra już 
 12 kwietnia w Próżności!\n\nDrzwi: 19:00\nKoncert: 20:00\nBILETY:\nhttp
 s://www.biletomat.pl/koncerty/rau-performance-poznan-7621/\n\nPremiera now
 ej płyty zatytułowanej „ Mistrz Sztuki ” miała miejsce 19 paździe
 rnika 2018. Zarówno tytuł jak i oprawa graficzna z przymrużeniem oka 
 opowiadają o ekspresji\, o strumieniu świadomości\, o różnorodno
 ści i samowystarczalności twórczej oraz niedoskonałościach z tym 
 związanych. Najnowsze dzieło Warszawskiego muzyka lekko nawiązuje do 
 poprzedniej płyty. Można stwierdzić\, że jest to dużo bardziej ro
 ́żnorodna kontynuacja „Konkretnej Rozrywki”. Na najnowszej produkcj
 i RAU zawarł sporo satyrycznych obserwacji otaczającej nas rzeczywistos
 ́ci\, ale też i mroczne\, a nawet osobiste utwory oraz potyczki z otacz
 ającą nas technologią i przemysłem. Stylistyka muzyczna mocno wchod
 zi w rejony elektroniki\, techno i okazjonalnie trapu – wszystko jednak 
 w typowej dla RAU a stylówce. Płyta została wydana własnym nakładem 
 z dystrybucją w Asfalt Records.\n\n! WSTĘP 16+\n!! Osoby niepełnoletni
 e powyżej szesnastego roku życia mogą uczestniczyć w koncercie tylko z
 a okazaniem zgody rodzica lub opiekuna prawnego.
ATTACH;FMTTYPE=image/jpeg:https://night4u.pl/wp-content/uploads/2019/01/11
 619_image_50221064_348369185894412_1448045689815695360_o.jpg
CATEGORIES:wielkopolskie
LOCATION:Próżność\, Niepodległości 8a\, Poznan\, 61-875\, Poland
GEO:52.405584;16.91872
X-APPLE-STRUCTURED-LOCATION;VALUE=URI;X-ADDRESS=Niepodległości 8a\, Pozna
 n\, 61-875\, Poland;X-APPLE-RADIUS=100;X-TITLE=Próżność:geo:52.405584,
 16.91872
END:VEVENT
BEGIN:VTIMEZONE
TZID:Europe/Warsaw
X-LIC-LOCATION:Europe/Warsaw
BEGIN:DAYLIGHT
DTSTART:20190331T030000
TZOFFSETFROM:+0100
TZOFFSETTO:+0200
TZNAME:CEST
END:DAYLIGHT
END:VTIMEZONE
END:VCALENDAR