BEGIN:VCALENDAR
VERSION:2.0
PRODID:-//wp-events-plugin.com//7.2.3.1//EN
TZID:Europe/Warsaw
X-WR-TIMEZONE:Europe/Warsaw
BEGIN:VEVENT
UID:27529@night4u.pl
DTSTART;TZID=Europe/Warsaw:20190921T230000
DTEND;TZID=Europe/Warsaw:20190922T100000
DTSTAMP:20190914T111220Z
URL:https://night4u.pl/wydarzenia/rave-alarm-76-future-prophecies/
SUMMARY:Rave Alarm #76 Future Prophecies.
DESCRIPTION:To nie science-fiction. To Rave Alarm. Oldschool gabba\, acid i
  hardkorowe techno z przyszłości. Tańcz jakby jutra miało nie być.  \
 n\nGoście\, goście:\n~ BDLK (Candyflip / Krk)\n~ RAVE KITTEN (Wwa)\n\nLo
 cal heroes:\n~ WIX COLLINA (Zajezdnia\, Jedząca wiara / Wro)\n~ PIXIE ELF
  (Prywatka U Pana Hofmann'a / Tribe In - Pixie Elf Music / Wro)\n\n& Suici
 de Rave Alarm Squad:\n~ ROOTSHOT  (RAVE ALARM / Wwa)\n~ DJ RAVELAND (RAVE 
 ALARM / Wwa)\n\n\nOpis performensu:\nZapraszamy na euforyczne spotkanie z 
 kulturą rave. Rave Alarm to portal do przeszłości\, do niekończącej s
 ię imprezy i przede wszystkim powrót do muzyki wywołującej symptomy zb
 iorowego szaleństwa na densflorze. RA to 360 stopni dookoła zjawisk kosm
 icznych w muzyce z przełomu końca lat 80' i 90'. Lot wokół galaktyki r
 ejwu pilotują specjalnie zaproszeni\, często zapomniani przez czas dje. 
 Klimat dopełniają generowane na żywo wizualizacje\, projekcje laserowe 
 i inne substraty nieziemskiej podróży. Nie ważne czy urodziłaś/urodzi
 łeś się w świetlanych latach rejwu czy później - to imprezy dla wszy
 stkich bez względu na podziały.\n21 września\, Bella Ciało.\n\nPodaj d
 alej!\n\n_______________________________\ntax: 20 (10 after 5am)\n________
 _______________________\n\nrules:\nbe kind to your neighbours\ndoorman has
  the final say\nno photos on the dancefloor\n#nolimetangere
ATTACH;FMTTYPE=image/jpeg:https://night4u.pl/wp-content/uploads/2019/09/64
 083_image_69377049_1908674975944840_8031194995018956800_n.jpg
CATEGORIES:dolnośląskie
LOCATION:Ciało\, Świdnicka 12\, Wroclaw\, 50-068\, Poland
GEO:51.106907;17.032125
X-APPLE-STRUCTURED-LOCATION;VALUE=URI;X-ADDRESS=Świdnicka 12\, Wroclaw\, 5
 0-068\, Poland;X-APPLE-RADIUS=100;X-TITLE=Ciało:geo:51.106907,17.032125
END:VEVENT
BEGIN:VTIMEZONE
TZID:Europe/Warsaw
X-LIC-LOCATION:Europe/Warsaw
BEGIN:DAYLIGHT
DTSTART:20190331T030000
TZOFFSETFROM:+0100
TZOFFSETTO:+0200
TZNAME:CEST
END:DAYLIGHT
END:VTIMEZONE
END:VCALENDAR