BEGIN:VCALENDAR
VERSION:2.0
PRODID:-//wp-events-plugin.com//7.2.3.1//EN
TZID:Europe/Warsaw
X-WR-TIMEZONE:Europe/Warsaw
BEGIN:VEVENT
UID:27464@night4u.pl
DTSTART;TZID=Europe/Warsaw:20190927T230000
DTEND;TZID=Europe/Warsaw:20190928T063000
DTSTAMP:20190914T105623Z
URL:https://night4u.pl/wydarzenia/rave-alarm-77-enter-the-void/
SUMMARY:RAVE ALARM #77 Enter the Void
DESCRIPTION:Turn On\, Tune In\, Drop Out!\n\n27 września Szpitalna 1 i Rav
 e Alarm otwiera labirynt.\nW tripie po zawiłych korytarzach znajdziesz dw
 ie sceny wypełnione szaleństwem.\nPrzez tajemnie brzmienia poprowadzą c
 iebie najwprawniejsi przewodnicy cyfry i winylu.\nW podróży przez matni
 ę odkryjesz piętrowe chillout roomy i zakamarki Szpitalnej.\n\nWchodzisz
  w to?\n\nTHE VOID STAGE x Rave Alarm\n#gabber #techno #hardstyle #trance\
 n~ NORTHFACE (UK\, MANCHESTER / Bass Kitchen Records) ~ mistrz rejwu z Ang
 lii\n-  VAGARY (Dazed Bros)  \n~ LIGHTSPEED (Gabberz United) ~ doomcore do
 minion\n~ HardDevil (Hell of Hardcore\, Speedcore Gliwice) ~ piekielne har
 dkory\n~ BDLK (CandyFlip) ~ 303% jakości i stylu\n~ Dj Raveland (RAVE ALA
 RM) ~ huragan hepi hardkoru\n~ RootShot (RAVE ALARM) ~\n~ SPECIAL GUESTS\n
 \n\nTHE CLIMAX STAGE\n#acid #house #disco #bass\n~ ALFRED HUGECOCK (Artcor
 e Rave)\n~ NORTHFACE (UK\, MANCHESTER / Bass Kitchen Records)\n~ HATIF LIV
 E!\n~ RT$H\n~ SPECIAL GUESTS\n\n\nZapraszamy na euforyczne spotkanie z kul
 turą rave.\nRave Alarm to portal do przeszłości\, do niekończącej si
 ę imprezy i przede wszystkim powrót do muzyki wywołującej symptomy zbi
 orowego szaleństwa na densflorze.\nRA to 360 stopni dookoła zjawisk kosm
 icznych w muzyce z przełomu końca lat 80' i 90'. Lot wokół galaktyki r
 ejwu pilotują specjalnie zaproszeni\, często zapomniani przez czas dje. 
 Klimat dopełniają generowane na żywo wizualizacje\, projekcje laserowe 
 i inne substraty nieziemskiej podróży.\nNie ważne czy urodziłaś/urodz
 iłeś się w świetlanych latach rejwu czy później - to imprezy dla wsz
 ystkich bez względu na podziały.\n\n\nRAVE ALARM\, 27 WRZEŚNIA\, SZPITA
 LNA1.\nPODAJ DALEJ~!
ATTACH;FMTTYPE=image/jpeg:https://night4u.pl/wp-content/uploads/2019/09/63
 943_image_70506586_1517789515039753_8038982058489413632_n.jpg
CATEGORIES:małopolskie
LOCATION:Szpitalna 1\, Szpitalna 1\, Kraków\, 31-041\, Poland
GEO:50.06186;19.94065
X-APPLE-STRUCTURED-LOCATION;VALUE=URI;X-ADDRESS=Szpitalna 1\, Kraków\, 31-
 041\, Poland;X-APPLE-RADIUS=100;X-TITLE=Szpitalna 1:geo:50.06186,19.94065
END:VEVENT
BEGIN:VTIMEZONE
TZID:Europe/Warsaw
X-LIC-LOCATION:Europe/Warsaw
BEGIN:DAYLIGHT
DTSTART:20190331T030000
TZOFFSETFROM:+0100
TZOFFSETTO:+0200
TZNAME:CEST
END:DAYLIGHT
END:VTIMEZONE
END:VCALENDAR