BEGIN:VCALENDAR
VERSION:2.0
PRODID:-//wp-events-plugin.com//7.2.3.1//EN
TZID:Europe/Warsaw
X-WR-TIMEZONE:Europe/Warsaw
BEGIN:VEVENT
UID:26838@night4u.pl
DTSTART;TZID=Europe/Warsaw:20190920T200000
DTEND;TZID=Europe/Warsaw:20190921T030000
DTSTAMP:20190907T175834Z
URL:https://night4u.pl/wydarzenia/rb-night-warszawa/
SUMMARY:R&B Night | Warszawa
DESCRIPTION:R&B to niezaprzeczalnie jeden z bardziej rozrywkowych i energet
 ycznych gatunków muzycznych – nogi same rwą się na parkiet! Tej nocy 
 nie zabraknie największych hitów Ushera\, The Weekend\, Ciary\, Alicii K
 eys czy Chrisa Browna w miksach dj Ponieckiego.\n\nRezerwacja loży\, miej
 sc siedzących i pakietów imprezowych możliwa na: https://rezerwacje.hul
 akula.com.pl/\n\n\n_______________________\nInformacje organizacyjne:\nDat
 a: 20/9/2019\nStart imprezy: 20:00 | Poniecki\nOgródek: disco-polo \nWst
 ęp 18+\nBilet: 15 zł\nDress code: smart casual\nDarmowy wstęp: \n- osob
 y obchodzące w tym dniu urodziny lub imieniny\,\n- posiadacze kart VIP Ca
 shback Hulakula.\n\n\n\n\nW celu zapewnienia gościom klubu bezpieczeństw
 a oraz komfortu zabawy w lokalu obowiązuje selekcja\, która dotyczy to r
 ównież osób umieszczonych na listach gości\, posiadających ogólnodos
 tępne zaproszenia lub wcześniejszą rezerwację loży w klubie\, wykupio
 ny bilet lub kartę VIP Cashback Hulakula.
ATTACH;FMTTYPE=image/jpeg:https://night4u.pl/wp-content/uploads/2019/09/62
 575_image_69864649_10158696080134128_1737083807581863936_o.jpg
CATEGORIES:mazowieckie
LOCATION:Hulakula Rozrywkowe Centrum Miasta\, ul. Jagiellońska 82b\, Warsa
 w\, 03-301\, Poland
GEO:52.273342;21.017125
X-APPLE-STRUCTURED-LOCATION;VALUE=URI;X-ADDRESS=ul. Jagiellońska 82b\, War
 saw\, 03-301\, Poland;X-APPLE-RADIUS=100;X-TITLE=Hulakula Rozrywkowe Centr
 um Miasta:geo:52.273342,21.017125
END:VEVENT
BEGIN:VTIMEZONE
TZID:Europe/Warsaw
X-LIC-LOCATION:Europe/Warsaw
BEGIN:DAYLIGHT
DTSTART:20190331T030000
TZOFFSETFROM:+0100
TZOFFSETTO:+0200
TZNAME:CEST
END:DAYLIGHT
END:VTIMEZONE
END:VCALENDAR