BEGIN:VCALENDAR
VERSION:2.0
PRODID:-//wp-events-plugin.com//7.2.3.1//EN
TZID:Europe/Warsaw
X-WR-TIMEZONE:Europe/Warsaw
BEGIN:VEVENT
UID:6822@night4u.pl
DTSTART;TZID=Europe/Warsaw:20190314T200000
DTEND;TZID=Europe/Warsaw:20190314T230000
DTSTAMP:20190210T152437Z
URL:https://night4u.pl/wydarzenia/rebeka-z-nowa-plyta-w-starym-klasztorze/
SUMMARY:Rebeka z nową płytą w Starym Klasztorze!
DESCRIPTION:Rebeka z nową płytą w Starym Klasztorze!\n\nCity Sounds zapr
 asza 14 marca do Sali Gotyckiej w Starym Klasztorze na koncert promujący 
 najnowszą płytę zespołu REBEKA\nREBEKA powraca z trzecim albumem "Post
  Dreams" i rusza w trasę koncertową jako TRIO! Na koncercie usłyszycie 
 materiał z nadchodzącej płyty\, jak i przearanżowane hity z dwóch pop
 rzednich krążków oraz dawno nie słyszane kawałki takie jak ‚555’ 
 czy ‚Fail’. \n\nIWONA: "Post Dreams" to będzie prawdopodobnie najbard
 ziej piosenkowa płyta Rebeki. Staraliśmy się zawrzeć w niej mnóstwo r
 óżnorodności.  Z jednej strony wydaje się utkana z delikatnych ornamen
 tów\, z drugiej strony uderza potężną falą przesterowanych gitar i ci
 ężkich bębnów. \n\nBARTOSZ: Zdecydowaliśmy się wprowadzić nieco now
 ości do naszego stylu komponowania i zaprosiliśmy do współpracy gitarz
 ystę\, trębacza oraz kwartet smyczkowy. Na płycie znalazły się trzy u
 twory po polsku: ”Fale”\, „Zachód” oraz Światła”\, już się 
 nie możemy doczekać aż je Wam zaprezentujemy na żywo!!!\n\nZespół s
 łynie z energetyzujących i pełnych zaangażowania koncertów\, więc ni
 e może Was zabraknąć.\n\n14.03.19 godz.20:00 Sala Gotycka w Starym Klas
 ztorze\, ul. Purkyniego 1\nREBEKA "Post Dreams"\nbilety: 40 zł - przedspr
 zedaż w klubie i rezerwacje: bilety@o2.pl\, 45 zł - w punktach sprzedaż
 y\, 50 zł - w dniu \nkoncertu\nmiejsca siedzące ( balkon): 60 zł\n\nBil
 ety dostępne w sieci salonów Empik i MediaMarkt w całej Polsce\noraz w 
 serwisach: www.staryklasztor.com.pl/bilety/\, www.biletin.pl\, www.biletyn
 a.pl\, www.eventim.pl\, www.ebilet.pl\, www.kupbilecik.pl\, www.empikbilet
 y.pl \nrezerwacje: bilety@o2.pl\n\nUwaga\, kupuj bilety wyłącznie w auto
 ryzowanych punktach! \nZakup biletów poza autoryzowanymi punktami sprzeda
 ży (Facebook\, aukcje internetowe\, systemy odsprzedaży biletów itp.) s
 twarza ryzyko zakupu biletów nieoryginalnych lub nieważnych\, które nie
  umożliwią wejścia na koncert.
ATTACH;FMTTYPE=image/jpeg:https://night4u.pl/wp-content/uploads/2019/02/19
 928_image_50589062_2030350507080074_368291388342665216_o.jpg
CATEGORIES:dolnośląskie
LOCATION:Stary Klasztor\, Purkyniego 1\, Wroclaw\, 50-155\, Poland
GEO:51.110198;17.039162
X-APPLE-STRUCTURED-LOCATION;VALUE=URI;X-ADDRESS=Purkyniego 1\, Wroclaw\, 50
 -155\, Poland;X-APPLE-RADIUS=100;X-TITLE=Stary Klasztor:geo:51.110198,17.0
 39162
END:VEVENT
BEGIN:VTIMEZONE
TZID:Europe/Warsaw
X-LIC-LOCATION:Europe/Warsaw
BEGIN:STANDARD
DTSTART:20181028T020000
TZOFFSETFROM:+0200
TZOFFSETTO:+0100
TZNAME:CET
END:STANDARD
END:VTIMEZONE
END:VCALENDAR