BEGIN:VCALENDAR
VERSION:2.0
PRODID:-//wp-events-plugin.com//7.2.3.1//EN
TZID:Europe/Warsaw
X-WR-TIMEZONE:Europe/Warsaw
BEGIN:VEVENT
UID:30003@night4u.pl
DTSTART;TZID=Europe/Warsaw:20191019T200000
DTEND;TZID=Europe/Warsaw:20191020T060000
DTSTAMP:20200401T080717Z
URL:https://night4u.pl/wydarzenia/rece-do-gory-la-casa-de-papel-party-x3-r
 udyxczarnyxbialy-kot/
SUMMARY:Ręce do góry! La Casa De Papel PARTY x3 /RUDYxCZARNYxBIAŁY KOT/
DESCRIPTION:🔴 " BOOM\, BOOM\, CIAO!" ⚫\nPo pierwsze- BUENOS DIAS! \n\n
 Najlepszy sposób na zakończenie tygodnia? Zostać zakładnikami weekendu
 . \nZróbcie z nami napad na bar\, zgarnijcie największe promki w mieści
 e i poczujcie się jakbyście rozbili bank! 🏦\n\n💷Impreza x3 oznacza
  jedno wejście i aż trzy kluby! Czarny Kot\, Biały Kot i Rudy Kot.\n
 💶Dla osób przebranych za Salvadora Dali- do północy wejście za free
  i specjalne niespodzianki oraz promki na barze.\n💴Dodatkowo na ten dzi
 eń szykujemy specjalne menu! \n💵O północy będzie szansa do wyłapan
 ia niezłego hajsu z napadu!\n\nWPADNIJCIE DO NAS TO NIKOMU NIC ZŁEGO SI
 Ę NIE STANIE! 💰
ATTACH;FMTTYPE=image/jpeg:https://night4u.pl/wp-content/uploads/2019/10/69
 201_image_70310031_2565904843490804_2505676159480496128_o.jpg
CATEGORIES:dolnośląskie
LOCATION:Czarny Kot Klub\, Ul. Ruska 47/48a.\, Wroclaw\, 50-079\, Poland
GEO:51.11031;17.02511
X-APPLE-STRUCTURED-LOCATION;VALUE=URI;X-ADDRESS=Ul. Ruska 47/48a.\, Wroclaw
 \, 50-079\, Poland;X-APPLE-RADIUS=100;X-TITLE=Czarny Kot Klub:geo:51.11031
 ,17.02511
END:VEVENT
BEGIN:VTIMEZONE
TZID:Europe/Warsaw
X-LIC-LOCATION:Europe/Warsaw
BEGIN:DAYLIGHT
DTSTART:20190331T030000
TZOFFSETFROM:+0100
TZOFFSETTO:+0200
TZNAME:CEST
END:DAYLIGHT
END:VTIMEZONE
END:VCALENDAR