BEGIN:VCALENDAR
VERSION:2.0
PRODID:-//wp-events-plugin.com//7.2.3.1//EN
TZID:Europe/Warsaw
X-WR-TIMEZONE:Europe/Warsaw
BEGIN:VEVENT
UID:11747@night4u.pl
DTSTART;TZID=Europe/Warsaw:20190520T190000
DTEND;TZID=Europe/Warsaw:20190520T210000
DTSTAMP:20190403T193737Z
URL:https://night4u.pl/wydarzenia/recital-magdy-umer-50-lat-na-scenie/
SUMMARY:Recital MAGDY UMER / 50 LAT na scenie
DESCRIPTION:[ MAGDA UMER ]\n\nArtystka\, która zręcznie łączy wszystkie
  swoje talenty.\nŚpiewa\, pisze\, reżyseruje. Wciąż tworzy i nieustann
 ie zaskakuje kolejnymi dziełami.\n\n„Magda opiekuje się najpiękniejsz
 ymi piosenkami świata. Nie daje im zmarnieć. Dba\, pielęgnuje\, tuli.\n
 W Anglii na kogoś takiego mówią Songsitter".\nArtur Andrus\n\n         
                       ?\n\nJUBILEUSZOWY recital z okazji 50 lecia pracy ar
 tystycznej pod honorowym patronatem Marszałka Województwa Zachodniopomor
 skiego Olgierda Geblewicza\n\nSłowo wstępne\, prowadzenie\ngłos oraz os
 obowość poezyjna\nSzymon Kaczmarek ?\n\nZAPRASZAMY!\n\nKultura ze smakie
 m oraz Jackpot Impresariat\n\n                             ?
ATTACH;FMTTYPE=image/jpeg:https://night4u.pl/wp-content/uploads/2019/04/30
 183_image_54463149_338269393476204_4071756578611527680_o.jpg
CATEGORIES:zachodniopomorskie
LOCATION:Lulu Club\, Partyzantów 2\, Szczecin\, 70-222\, Poland
GEO:53.423946;14.549676
X-APPLE-STRUCTURED-LOCATION;VALUE=URI;X-ADDRESS=Partyzantów 2\, Szczecin\,
  70-222\, Poland;X-APPLE-RADIUS=100;X-TITLE=Lulu Club:geo:53.423946,14.549
 676
END:VEVENT
BEGIN:VTIMEZONE
TZID:Europe/Warsaw
X-LIC-LOCATION:Europe/Warsaw
BEGIN:DAYLIGHT
DTSTART:20190331T030000
TZOFFSETFROM:+0100
TZOFFSETTO:+0200
TZNAME:CEST
END:DAYLIGHT
END:VTIMEZONE
END:VCALENDAR