BEGIN:VCALENDAR
VERSION:2.0
PRODID:-//wp-events-plugin.com//7.2.3.1//EN
TZID:Europe/Warsaw
X-WR-TIMEZONE:Europe/Warsaw
BEGIN:VEVENT
UID:42709@night4u.pl
DTSTART;TZID=Europe/Warsaw:20200229T170000
DTEND;TZID=Europe/Warsaw:20200301T050000
DTSTAMP:20200331T141741Z
URL:https://night4u.pl/wydarzenia/red-bull-kontrowersy-2020-bitwy-freestyl
 eowe/
SUMMARY:Red Bull KontroWersy 2020 - bitwy freestyle'owe// SOLD OUT
DESCRIPTION:Red Bull KontroWersy\, czyli bitwy freestyle'owe 1 vs 1 powraca
 ją. Tym razem podczas jednodniowego wydarzenia najlepsi Mc's stanął do 
 pojedynków na rymy i słowa we Wrocławiu. \n\nW bitwach zmierzy się ze 
 sobą 16 freestyle'owców\, z czego 8 zostanie zaproszonych do rywalizacji
  jako „dzikie karty‟. Nie zabraknie wśród nich najzdolniejszych free
 style'owców z całej Polski. Drugą 8 stanowić będą zawodnicy wyłonie
 ni w preeliminacjach w dniu wydarzenia.\n\nO tym\, kto znajdzie się w fin
 ałowej 16 zadecyduje specjalnie powołane jury w składzie:\n- Te-Tris\n-
  Bober\n- Milu\n- Błażej Krajewski\n- Yurkosky\n\nDZIKIE KARTY:\n- Koro 
 \n- Kurian\n- Kaz\n- Wawrzyn\n- WueNo\n- Spartiak\n- Q-Key\n- Forti\n\nHAR
 MONOGRAM:\n\n17:00 – OTWARCIE DRZWI\n18:00 – START PREELIMINACJI\n20:1
 0 – START BITEW\nPo zakończeniu bitew\, ok. 22:25 – KONCERT Bober\n\n
 Po bitwach i koncercie odbędzie się afterpaty\, na którym za konsoletą
  staną Dj Lazy One oraz Wiktor Unton.\nWstęp na afterparty\, od godz. 23
 :00 jest bezpłatny i nie wymaga posiadania biletu. Osoby\, które będą 
 chciały przyjść wcześniej muszą posiadać ważny bilet wstępu.\nPrzy
 pominamy\, że osoby nieletnie mogą wejść do klubu jedynie ze zgodą ro
 dziców\, której wzór pobierzecie pod adresem:\nhttps://win.gs/2TlND2Y\n
 \nZAPISY – OD 06.02 DO 29.02\n\nJeśli chcesz zawalczyć o trofeum Red B
 ull KontroWersy oraz nagrody finansowe\, swój start możesz zgłosić kup
 ując bilet i wypełniając formularz znajdujący się na stronie www.redb
 ull.pl/kontrowersy\n\nW bitwie wziąć udział mogą jedynie osoby pełnol
 etnie. \n\nNAGRODY\n\nNa zwycięzcę Red Bull KontroWersy 2020 czekają na
 grody rzeczowe i finansowe. Poza trofeum\, do zgarnięcia jest 3000 złoty
 ch oraz voucher o wartości 2000 złotych do wykorzystania w sklepie www.p
 rosto.pl.\nDodatkowo na finałową 16 zawodników czekać będą specjalne
  pakiety startowe.\n\nBILETY - SOLD OUT\n\nImpreza odbędzie się 29 luteg
 o 2020 w Akademia Club we Wrocławiu. Bilety w cenie 20 złotych w puli 
 „early birds‟\, potem 25 złotych.\nDo każdego biletu\, na uczestnika
  imprezy czekać będzie puszka Red Bulla.\n\nWIĘCEJ INFORMACJI WKRÓTCE\
 n\nwww.redbull.pl/kontrowersy\n#redbullkontrowersy\n\nTERAZ MOWA JEST ZŁO
 TEM
ATTACH;FMTTYPE=image/jpeg:https://night4u.pl/wp-content/uploads/2020/02/13
 5393_image_86289326_1075074409523635_2027103900900786176_o.jpg
CATEGORIES:dolnośląskie
LOCATION:Akademia\, Grunwaldzka 67\, Wroclaw\, 50-357\, Poland
GEO:51.11448;17.06641
X-APPLE-STRUCTURED-LOCATION;VALUE=URI;X-ADDRESS=Grunwaldzka 67\, Wroclaw\, 
 50-357\, Poland;X-APPLE-RADIUS=100;X-TITLE=Akademia:geo:51.11448,17.06641
END:VEVENT
BEGIN:VTIMEZONE
TZID:Europe/Warsaw
X-LIC-LOCATION:Europe/Warsaw
BEGIN:STANDARD
DTSTART:20191027T020000
TZOFFSETFROM:+0200
TZOFFSETTO:+0100
TZNAME:CET
END:STANDARD
END:VTIMEZONE
END:VCALENDAR