BEGIN:VCALENDAR
VERSION:2.0
PRODID:-//wp-events-plugin.com//7.2.3.1//EN
TZID:Europe/Warsaw
X-WR-TIMEZONE:Europe/Warsaw
BEGIN:VEVENT
UID:6438@night4u.pl
DTSTART;TZID=Europe/Warsaw:20190208T210000
DTEND;TZID=Europe/Warsaw:20190209T040000
DTSTAMP:20190205T173453Z
URL:https://night4u.pl/wydarzenia/red-lips-08-02-czerwona-szminka-wstep-dr
 ink/
SUMMARY:Red Lips // 08.02 // Czerwona Szminka - Wstęp + Drink!
DESCRIPTION:[ENGLISH VERSION BELOW]\n\nPiątki w SHINE tradycyjnie skierowa
 ne są do płci pięknej. Bo co byśmy bez Was zrobili drogie Panie \;-)\n
 \nDodatkowo PODKRĘCAMY efekt imprezy i proponujemy Wam cotygodniowy KONKU
 RS:\n\n1) Ubierz się zgodnie z tematem imprezy (czerwona szminka)\n2) Zg
 łoś się do fotografa i zostaw swoje dane\n3) Zrób sobie fotkę \n4) Zb
 ieraj lajki pod swoją fotką w specjalnej galerii po imprezie \n\nKobieta
  z największą ilością lajków otrzymuje butelkę wódki z softem (do w
 ykorzystania na następnych imprezach) oraz bon upominkowy do sklepu odzie
 żowego ANSWEAR o wartości 50 zł!\n________________________________\nNie
 zależnie od konkursu:\n\n★ WSZYSTKIE kobiety z czerwoną szminką wchod
 zą ZA DARMO przez CAŁĄ NOC!\n\n★ 100 PIERWSZYCH kobiet z czerwoną sz
 minką otrzymuje na start Welcome Drinka - tak\, żeby dobrze zacząć imp
 rezę :)\n\n★ POZOSTAŁE kobiety dopisane do listy FB wchodzą do klubu 
 ZA DARMO do 22:00\, po tej godzinie symboliczny piątak. A żeby mężczy
 źni nie czuli się pokrzywdzeni to do 22:00 - 5 zł\, później dyszka :)
 \n________________________________\n\nWSTĘP:\nKOBIETY: LISTA FB DO 22:00 
 FREE\, po 22:00 - 5 zł\n(czerwona szminka - cała noc FREE!)\nMĘŻCZYŹN
 I: LISTA FB DO 22:00 - 5 zł\, po 22:00 - 10 zł\n\nLISTA FB ZAMYKAMY W DN
 IU IMPREZY O 20:00\nObowiązuje: door selection!\nShine - przyjdź i lśni
 j!\n________________________________\n\n[ENGLISH VERSION]\n\nFridays at Sh
 ine Club are dedicated to women. Additionally girls dressed according to t
 heme of the event have chance to grab some extras during that night:\n\n
 ★ Each woman with red lips - FREE ENTRANCE all night\n★ First 100 girl
 s with red lips - WELCOME DRINK\n\nOther women have FREE ENTRANCE till 10:
 00P.M. (with Facebook list)\, after this time ticket price is 5 PLN. For m
 en ticket price is 5 PLN till 10:00P.M. (with Facebook list)\, after this 
 time - 10 PLN\n\nDoor selection.
ATTACH;FMTTYPE=image/jpeg:https://night4u.pl/wp-content/uploads/2019/02/18
 991_image_51508140_1165819623589991_2118214330641022976_o.jpg
CATEGORIES:podkarpackie
LOCATION:Shine Club Rzeszów\, 3 Maja 11\, Rzeszów\, 35-216\, Poland
GEO:50.036459;22.001808
X-APPLE-STRUCTURED-LOCATION;VALUE=URI;X-ADDRESS=3 Maja 11\, Rzeszów\, 35-2
 16\, Poland;X-APPLE-RADIUS=100;X-TITLE=Shine Club Rzeszów:geo:50.036459,2
 2.001808
END:VEVENT
BEGIN:VTIMEZONE
TZID:Europe/Warsaw
X-LIC-LOCATION:Europe/Warsaw
BEGIN:STANDARD
DTSTART:20181028T020000
TZOFFSETFROM:+0200
TZOFFSETTO:+0100
TZNAME:CET
END:STANDARD
END:VTIMEZONE
END:VCALENDAR