BEGIN:VCALENDAR
VERSION:2.0
PRODID:-//wp-events-plugin.com//7.2.3.1//EN
TZID:Europe/Warsaw
X-WR-TIMEZONE:Europe/Warsaw
BEGIN:VEVENT
UID:34401@night4u.pl
DTSTART;TZID=Europe/Warsaw:20191109T210000
DTEND;TZID=Europe/Warsaw:20191110T040000
DTSTAMP:20191110T003323Z
URL:https://night4u.pl/wydarzenia/red-lips-high-heels-09-11-lista-facebook
 -za-darmo/
SUMMARY:Red Lips High Heels :: 09.11 // Lista Facebook za darmo
DESCRIPTION:W sobotę czekamy na miłośniczki czerwonych 💄 szminek oraz
  wysokich 👠 obcasów... i nie tylko! 😉\n\nTej nocy wszystkie Panie w
  szpilkach wchodzą za darmo\, więc zabierzcie ze sobą koleżanki! 😍\
 n\nKontrolę nad klubem przejmują Panie\, a to oznacza tylko jedno: będz
 ie się działo! 😎 Szykujemy dla Was najlepsze drinki 🍸 i świetną 
 muzykę! 🎶 A skoro już o muzyce mowa... Nasi DJe zaserwują Wam dużą
  dawkę R&amp\;B\, ale nie zabraknie także kultowych kobiecych utworów.\
 n\n👉 Czekamy na Ciebie na Okopowej 5 (wejście od Placu Kaczyńskiego)\
 n\n🔥 Start 21:00 🔥\n➡ Dziewczyny w szpilkach całą noc wejście F
 REE\n➡ Lista FB do 23:00 wejście FREE\n➡ Po 23:00 wejście 10 zł  / 
 After 11:00 pm entrance 10 pln \n➡ Po 24:00 wejście 15 zł / After 12:0
 0 pm entrance 15 pln \n\nPromocje / Sale:\n🔹 Prosecco 49 zł butelka\n
 🔹 Ladies Drink XXL 79 zł \n🔹 French75 10 zł \n\n\nDress code:\nEle
 gant Casual \n\nRezerwacje miejsc / Seats &amp\; tables:\n💬 Messenger \
 n📧 club@themistclub.eu\n☎ +48 512 375 356
ATTACH;FMTTYPE=image/jpeg:https://night4u.pl/wp-content/uploads/2019/11/88
 803_image_73319493_452328212302763_10914735964815360_n.jpg
CATEGORIES:lubelskie
LOCATION:The Mist Club\, Okopowa 5\, Lublin\, 20-022\, Poland
GEO:51.246111;22.556115
X-APPLE-STRUCTURED-LOCATION;VALUE=URI;X-ADDRESS=Okopowa 5\, Lublin\, 20-022
 \, Poland;X-APPLE-RADIUS=100;X-TITLE=The Mist Club:geo:51.246111,22.556115
END:VEVENT
BEGIN:VTIMEZONE
TZID:Europe/Warsaw
X-LIC-LOCATION:Europe/Warsaw
BEGIN:STANDARD
DTSTART:20191027T020000
TZOFFSETFROM:+0200
TZOFFSETTO:+0100
TZNAME:CET
END:STANDARD
END:VTIMEZONE
END:VCALENDAR