BEGIN:VCALENDAR
VERSION:2.0
PRODID:-//wp-events-plugin.com//7.2.3.1//EN
TZID:Europe/Warsaw
X-WR-TIMEZONE:Europe/Warsaw
BEGIN:VEVENT
UID:9420@night4u.pl
DTSTART;TZID=Europe/Warsaw:20190323T210000
DTEND;TZID=Europe/Warsaw:20190324T060000
DTSTAMP:20190314T205939Z
URL:https://night4u.pl/wydarzenia/red-queen-sala-dance-dj-legius-chucku-sa
 la-klubowa/
SUMMARY:Red Queen - sala dance\, Dj Legius & Chucku - sala klubowa
DESCRIPTION:W sobotę 23 marca zapraszamy na imprezę podczas\, której wys
 tąpi zespół RED QUEEN . Za konsolą na sali dance DJ FRAGLES\n\nsala kl
 ubowa - duet didżejski znad polskiego morza DJ LEGIUS & DJ CHUCKU \, towa
 rzyszyć im będzie DJ WW\n\nsala złota - MIX HIT'S - Dj D-SOUND !!!\n\nd
 ata: 23 marca/sobota\nwstęp: 15 zł\npoczątek g. 21.00
ATTACH;FMTTYPE=image/jpeg:https://night4u.pl/wp-content/uploads/2019/03/25
 440_image_53613717_1561414607323988_1411334976544178176_o.jpg
CATEGORIES:mazowieckie
LOCATION:Explosion Club\, Wał Miedzeszyński 646\, Gocław\, 03-994\, Pola
 nd
GEO:52.221503;21.084759
X-APPLE-STRUCTURED-LOCATION;VALUE=URI;X-ADDRESS=Wał Miedzeszyński 646\, G
 ocław\, 03-994\, Poland;X-APPLE-RADIUS=100;X-TITLE=Explosion Club:geo:52.
 221503,21.084759
END:VEVENT
BEGIN:VTIMEZONE
TZID:Europe/Warsaw
X-LIC-LOCATION:Europe/Warsaw
BEGIN:STANDARD
DTSTART:20181028T020000
TZOFFSETFROM:+0200
TZOFFSETTO:+0100
TZNAME:CET
END:STANDARD
END:VTIMEZONE
END:VCALENDAR