BEGIN:VCALENDAR
VERSION:2.0
PRODID:-//wp-events-plugin.com//7.2.3.1//EN
TZID:Europe/Warsaw
X-WR-TIMEZONE:Europe/Warsaw
BEGIN:VEVENT
UID:2902@night4u.pl
DTSTART;TZID=Europe/Warsaw:20190413T220000
DTEND;TZID=Europe/Warsaw:20190414T050000
DTSTAMP:20190108T162500Z
URL:https://night4u.pl/wydarzenia/reni-jusis-aureola-tour-lista-fb-wstep-1
 0-zl-do-2300/
SUMMARY:RENI JUSIS - Aureola Tour // LISTA FB wstęp 10 zł do 23:00
DESCRIPTION:Więcej informacji 12.01.2019r.\n\nLISTA FB WCHODZI za 10 zł D
 O 23:00! \nWYSTARCZY KLIKNĄĆ "WEZMĘ UDZIAŁ"\nLISTĘ ZAMYKAMY O 19:00!\
 n\n====================================\nZAGRAJĄ: \n=====================
 ===============\nHEAVEN: więcej informacji wkrótce\n====================
 ================\nKARAOKE\n====================================\nHELL: wi
 ęcej informacji wkrótce\n====================================\nSTART: \n
 \n22:00 \n\nWstęp 25 zł / LISTA FB do 23:00 wstęp 10 zł.\nWystęp prze
 widziany jest na godz. 01:00\nKARTA VIP WSTĘP 15 ZŁ ( DOTYCZY 1 OSOBY)\n
 \nLISTA FB WCHODZI za 10 zł DO 23:00! \nWYSTARCZY KLIKNĄĆ "WEZMĘ UDZIA
 Ł"\nLISTĘ ZAMYKAMY O 19:00!
ATTACH;FMTTYPE=image/jpeg:https://night4u.pl/wp-content/uploads/2019/01/99
 44_image_49895383_2198658033741363_7381514327448092672_o.jpg
CATEGORIES:pomorskie
LOCATION:HAH Sopot\, Aleja Franciszka Mamuszki 21 (obok wejścia nr 13 na p
 lażę)\, Sopot\, 81-712\, Poland
GEO:54.453133;18.563739
X-APPLE-STRUCTURED-LOCATION;VALUE=URI;X-ADDRESS=Aleja Franciszka Mamuszki 2
 1 (obok wejścia nr 13 na plażę)\, Sopot\, 81-712\, Poland;X-APPLE-RADIU
 S=100;X-TITLE=HAH Sopot:geo:54.453133,18.563739
END:VEVENT
BEGIN:VTIMEZONE
TZID:Europe/Warsaw
X-LIC-LOCATION:Europe/Warsaw
BEGIN:DAYLIGHT
DTSTART:20190331T030000
TZOFFSETFROM:+0100
TZOFFSETTO:+0200
TZNAME:CEST
END:DAYLIGHT
END:VTIMEZONE
END:VCALENDAR