BEGIN:VCALENDAR
VERSION:2.0
PRODID:-//wp-events-plugin.com//7.2.3.1//EN
TZID:Europe/Warsaw
X-WR-TIMEZONE:Europe/Warsaw
BEGIN:VEVENT
UID:35866@night4u.pl
DTSTART;TZID=Europe/Warsaw:20191123T220000
DTEND;TZID=Europe/Warsaw:20191124T060000
DTSTAMP:20191119T103609Z
URL:https://night4u.pl/wydarzenia/reni-jusis-dj-set-w-love-club-szczecin/
SUMMARY:RENI JUSIS Dj set w Love Club Szczecin
DESCRIPTION:23.11.2019 GODDESS is a DJ by RENI JUSIS!\n\nTo będzie totalna
  petarda!\nPo raz pierwszy w Szczecinie\, po raz pierwszy w LOVE za konsol
 ą dj'ską stanie RENI JUSIS…Yeah!\n\nKlubowa Królowa przybędzie\, aby
  rozkręcić imprezę Goddess is a Dj.\n\nTo będzie prawdziwy ogień\, bo
 om\, boom\, boom… \n\nLOVE Train ani na moment się nie zatrzymuje! \n\n
 Wejście: od 22:00 do 23:00 - 15 złotówek\n                 od 23:00 - 2
 5 złotówek
ATTACH;FMTTYPE=image/jpeg:https://night4u.pl/wp-content/uploads/2019/11/95
 423_image_74316918_1439655336188365_6852534339817701376_o.jpg
CATEGORIES:zachodniopomorskie
LOCATION:Love Club All together\, Tkacka 8\, Szczecin\, 70-556\, Poland
GEO:53.42745;14.55305
X-APPLE-STRUCTURED-LOCATION;VALUE=URI;X-ADDRESS=Tkacka 8\, Szczecin\, 70-55
 6\, Poland;X-APPLE-RADIUS=100;X-TITLE=Love Club All together:geo:53.42745,
 14.55305
END:VEVENT
BEGIN:VTIMEZONE
TZID:Europe/Warsaw
X-LIC-LOCATION:Europe/Warsaw
BEGIN:STANDARD
DTSTART:20191027T020000
TZOFFSETFROM:+0200
TZOFFSETTO:+0100
TZNAME:CET
END:STANDARD
END:VTIMEZONE
END:VCALENDAR