BEGIN:VCALENDAR
VERSION:2.0
PRODID:-//wp-events-plugin.com//7.2.3.1//EN
TZID:Europe/Warsaw
X-WR-TIMEZONE:Europe/Warsaw
BEGIN:VEVENT
UID:1490@night4u.pl
DTSTART;TZID=Europe/Warsaw:20190119T220000
DTEND;TZID=Europe/Warsaw:20190120T060000
DTSTAMP:20181230T151050Z
URL:https://night4u.pl/wydarzenia/reni-jusis-koncert/
SUMMARY:RENI JUSIS Koncert
DESCRIPTION:Koncert Reni Jusis  rozpoczynający trasę wiosenną 2019 w opr
 awie i kostiumami zaprojektowanymi przez duet Paprocki & Brzozowski .\n\nU
 słyszymy Jej największe hity jak również piosenki z ostatniej płyty .
 ===================================================\nRENI JUSIS – wokali
 stka\, kompozytorka\, autorka tekstów\, ikona muzyki klubowej w Polsce. \
 nRENI JUSIS jest jedną z niewielu polskich artystek\, która w swojej kar
 ierze nie ogranicza się tylko do jednego wizerunku i stylu\, ale cały cz
 as poszukuje i podąża za najświeższymi kierunkami w muzyce.\nMa na swo
 im koncie 7 płyt studyjnych i współpracę z największymi legendami pol
 skiej sceny muzycznej\, między innymi: Michałem Urbaniakiem \, Urszulą 
 Dudziak\, Ewą Bem i Marcinem Pospieszalskim. Jej muzykę można określi
 ć jako mieszankę muzyki tanecznej i elektroniki. Jej styl charakteryzuj
 ą przestrzenne aranżacje i osobiste teksty. Najlepszą wizytówką Artys
 tki są niezwykle dynamiczne i pełne energii koncerty klubowe\, które ł
 ączą nowoczesny live-act z setami DJ-skimi.\n\nPo odważnym\, eksperymen
 talnym krążku "BANG!" sprzed dwóch lat\, który zebrał wiele pozytywny
 ch recenzji i zgarnął „Fryderyka" w kategorii muzyka elektroniczna\, R
 eni Jusis powraca z ultra tanecznym nowym albumem zatytułowanym „ĆMA"\
 , będący kontynuacją jej dotychczasowej klubowej twórczości.\nPłytę
  promują dwa single : elektro popowa kompozycja "Tyyyle miłości"\nhttps
 ://www.youtube.com/watch?v=3KYT5aavzlA\noraz tytułowa "ĆMA" \, która ud
 anie łączy parkietowy puls i popową przebojowość z wyrafinowaną wars
 twą kompozycyjną i chwytliwą melodią \nhttps://www.youtube.com/watch?v
 =6PwnnRUL768\n\n===================================================\nStart
  imprezy godz:22:00\nkoncert zacznie się ok  godz. 1:00\nBilety \n35 zł 
 \nPula pierwszych 100 biletów  - 25 zł \nKarty VIP wstęp wolny  \n=====
 ==============================================\nUwaga!\ntego dnia nie obow
 iazują żadne promocje .\nchcesz wejść  za darmo - wystarczy zaprosić 
 znajomych i udostepnić to wydarzenie na swoim profilu . \nlosowanie wejsc
 iówej 19.01.2019 ok godz.14 :00 \nZapraszamy
ATTACH;FMTTYPE=image/jpeg:https://night4u.pl/wp-content/uploads/2018/12/68
 79_image_48356568_10157526699882908_1014519048236433408_n.jpg
CATEGORIES:łódzkie
LOCATION:NARRAGANSET\, Gdańska 129\, Łódź\, 90-519\, Poland
GEO:51.759549;19.450388
X-APPLE-STRUCTURED-LOCATION;VALUE=URI;X-ADDRESS=Gdańska 129\, Łódź\, 90
 -519\, Poland;X-APPLE-RADIUS=100;X-TITLE=NARRAGANSET:geo:51.759549,19.4503
 88
END:VEVENT
BEGIN:VTIMEZONE
TZID:Europe/Warsaw
X-LIC-LOCATION:Europe/Warsaw
BEGIN:STANDARD
DTSTART:20181028T020000
TZOFFSETFROM:+0200
TZOFFSETTO:+0100
TZNAME:CET
END:STANDARD
END:VTIMEZONE
END:VCALENDAR