BEGIN:VCALENDAR
VERSION:2.0
PRODID:-//wp-events-plugin.com//7.2.3.1//EN
TZID:Europe/Warsaw
X-WR-TIMEZONE:Europe/Warsaw
BEGIN:VEVENT
UID:10400@night4u.pl
DTSTART;TZID=Europe/Warsaw:20190327T220000
DTEND;TZID=Europe/Warsaw:20190328T040000
DTSTAMP:20190318T195603Z
URL:https://night4u.pl/wydarzenia/reni-jusis-on-the-rooftop-wednesday-midn
 ight-saber-party/
SUMMARY:Reni Jusis on the Rooftop / Wednesday / Midnight Saber Party
DESCRIPTION:Środowa impreza na Rooftopie z RENI JUSIS już 27 marca!\n\nRa
 zem z naszym partnerem Belvedere Vodkazapraszamy na noc pełną szaleństw
 a i niespodzianek. Na naszej klubowej scenie - specjalnie dla Was wystąpi
  Reni Jusis\, a o dźwięki klubowe zadba dj KASP. Tej nocy królować bę
 dzie również limitowana butelka Belvedere Midnight Saber!\n\nDaj się wk
 ręcić do imprezowego świata!\n\nŚRODA 27.03.2019\n____________________
 _\nZagrają: \nGość specjalny: RENI JUSIS\nSupport: DJ KASP\n\n*start: 2
 2:00 / obowiązuje selekcja\n*rezerwacje: reservation@theview.pl / +48 663
  971 942\n*wstęp: \n- standard 30 PLN\n- lista facebook: FREE do 23:00 (k
 liknij "wezmę udział")\n- między 3:00 a 4:00 wstęp FREE\n- wejście na
  imprezę możliwe do godziny 4:00\n______________________\n\nTHE VIEW - L
 IKE NO OTHER.
ATTACH;FMTTYPE=image/jpeg:https://night4u.pl/wp-content/uploads/2019/03/27
 459_image_53856550_2053926441322086_3227329737219112960_o.jpg
CATEGORIES:mazowieckie
LOCATION:The View Warsaw\, Twarda 18\, Warsaw\, 00-105\, Poland
GEO:52.23443;20.99936
X-APPLE-STRUCTURED-LOCATION;VALUE=URI;X-ADDRESS=Twarda 18\, Warsaw\, 00-105
 \, Poland;X-APPLE-RADIUS=100;X-TITLE=The View Warsaw:geo:52.23443,20.99936
END:VEVENT
BEGIN:VTIMEZONE
TZID:Europe/Warsaw
X-LIC-LOCATION:Europe/Warsaw
BEGIN:STANDARD
DTSTART:20181028T020000
TZOFFSETFROM:+0200
TZOFFSETTO:+0100
TZNAME:CET
END:STANDARD
END:VTIMEZONE
END:VCALENDAR