BEGIN:VCALENDAR
VERSION:2.0
PRODID:-//wp-events-plugin.com//7.2.3.1//EN
TZID:Europe/Warsaw
X-WR-TIMEZONE:Europe/Warsaw
BEGIN:VEVENT
UID:45600@night4u.pl
DTSTART;TZID=Europe/Warsaw:20200131T210000
DTEND;TZID=Europe/Warsaw:20200201T060000
DTSTAMP:20200201T001103Z
URL:https://night4u.pl/wydarzenia/resident-night-31-01-do-2300-lista-fb-fr
 ee/
SUMMARY:Resident Night // 31.01 / Do 23:00 lista FB free
DESCRIPTION:Nasi rezydenci\, co tydzień dbają o najlepszy klimacik na par
 kiecie!\nDwie sale\, dwa zupełnie różne klimaty! Wpadasz?!  Dodatkowo w
 padanie do nas Ikz! \n1 SALA: DJANGO // MATT HOUSE // Ikz\n2 SALA: MYORS /
 / FINE\n\n------------------------------------------------\n➡️Start 21
 :00\n➡️Do 23:00 - lista FB wchodzi za FREE\n➡️Od 23:00 - 24:00 - 1
 0 zł \n➡️Po 24:00 - 15 zł\n\nBilet wstępu obowiązuje do lokali:\nH
 elium Club\nRzut Beretem\nEl Cubano\n\nseats &amp\; tables/ rezerwacje sto
 lików\n☎️: 725700205 (wt-sob. 17:00-20:00)\nWejście 18+ / DOOR SELEC
 TION\n-------------------------------------------------
ATTACH;FMTTYPE=image/jpeg:https://night4u.pl/wp-content/uploads/2020/01/14
 8028_image_83003577_2548518275423339_5164609804487884800_o.jpg
CATEGORIES:lubelskie
LOCATION:Helium Club\, Hempla 5\, Lublin\, 20-008\, Poland
GEO:51.245425;22.557276
X-APPLE-STRUCTURED-LOCATION;VALUE=URI;X-ADDRESS=Hempla 5\, Lublin\, 20-008\
 , Poland;X-APPLE-RADIUS=100;X-TITLE=Helium Club:geo:51.245425,22.557276
END:VEVENT
BEGIN:VTIMEZONE
TZID:Europe/Warsaw
X-LIC-LOCATION:Europe/Warsaw
BEGIN:STANDARD
DTSTART:20191027T020000
TZOFFSETFROM:+0200
TZOFFSETTO:+0100
TZNAME:CET
END:STANDARD
END:VTIMEZONE
END:VCALENDAR