BEGIN:VCALENDAR
VERSION:2.0
PRODID:-//wp-events-plugin.com//7.2.3.1//EN
TZID:Europe/Warsaw
X-WR-TIMEZONE:Europe/Warsaw
BEGIN:VEVENT
UID:38085@night4u.pl
DTSTART;TZID=Europe/Warsaw:20191207T210000
DTEND;TZID=Europe/Warsaw:20191208T060000
DTSTAMP:20191208T000905Z
URL:https://night4u.pl/wydarzenia/residents-night-07-12-do-2200-wejscie-fr
 ee/
SUMMARY:Residents Night // 07.12 // Do 22:00 wejście free
DESCRIPTION:Tych Panów chyba nie musimy Wam przedstawiać! Nasi rezydenci\
 , co tydzień dbają o najlepszy klimacik na parkiecie!\n Dwie sale\, dwa 
 zupełnie różne klimaty! Wpadasz?!  \n1 SALA: DJANGO i MATT HOUSE!\n2 SA
 LA: MYORS i FINE\n\n------------------------------------------------\n➡
 ️Start 21:00\n➡️Do 22:00 - lista FB wchodzi za FREE\n➡️Od 22:00 
 - 23:00 - 10 zł \n➡️Po 23:00 - 15 zł\n\nBilet wstępu obowiązuje do
  lokali:\nHelium Club\nRzut Beretem\nEl Cubano\nRIVIERA\n\nseats &amp\; ta
 bles/ rezerwacje stolików\n☎️: 725700205 (wt-sob. 17:00-20:00)\nWejś
 cie 18+ / DOOR SELECTION\n------------------------------------------------
 -
ATTACH;FMTTYPE=image/jpeg:https://night4u.pl/wp-content/uploads/2019/12/10
 8828_image_78299134_2492413644367136_5694074947329064960_o.jpg
CATEGORIES:lubelskie
LOCATION:Helium Club\, Hempla 5\, Lublin\, 20-008\, Poland
GEO:51.245425;22.557276
X-APPLE-STRUCTURED-LOCATION;VALUE=URI;X-ADDRESS=Hempla 5\, Lublin\, 20-008\
 , Poland;X-APPLE-RADIUS=100;X-TITLE=Helium Club:geo:51.245425,22.557276
END:VEVENT
BEGIN:VTIMEZONE
TZID:Europe/Warsaw
X-LIC-LOCATION:Europe/Warsaw
BEGIN:STANDARD
DTSTART:20191027T020000
TZOFFSETFROM:+0200
TZOFFSETTO:+0100
TZNAME:CET
END:STANDARD
END:VTIMEZONE
END:VCALENDAR