BEGIN:VCALENDAR
VERSION:2.0
PRODID:-//wp-events-plugin.com//7.2.3.1//EN
TZID:Europe/Warsaw
X-WR-TIMEZONE:Europe/Warsaw
BEGIN:VEVENT
UID:24700@night4u.pl
DTSTART;TZID=Europe/Warsaw:20190824T200000
DTEND;TZID=Europe/Warsaw:20190825T050000
DTSTAMP:20190815T221001Z
URL:https://night4u.pl/wydarzenia/retro-american-hits-%e2%9c%aa-sob-24-08-
 club-80/
SUMMARY:Retro American Hits ✪ Sob. 24.08 - Club 80
DESCRIPTION:RETRO AMERICAN HITS ✪ Sob. 24.08 - Club 80\n\nTej nocy przeż
 yjecie powrót do przeszłości. Usłyszycie niesamowite amerykańskie hit
 y lat 70/80/90. Zagramy także najnowsze światowe hity. Niezapomniane chw
 ile\, miła atmosfera\, udana zabawa to wszystko w Clubie 80. \n\n?Pamięt
 ajcie o czekających na Was promocjach na barach. Szukajcie na mieście na
 szych hostess. \n--\nImprezę nakręca: DJ MARCO\n--\nℹ INFO\n\n➡ STAR
 T: ? 20.00 | DOOR SELECTION\n\n➡ REZERWACJE\n? 601 932 923\n\n➡ REGULA
 MIN KLUBU\nhttps://bit.ly/2AqoA65\n\n➡ POROZMAWIAJ ONLINE \nm.me/Club80.
 Gliwice\n\n➡ WSTĘP\nPANIE - 10zł\nPANOWIE - 15zł\n--\nwww.club80.pl\n
 www.fb.com/Club80.Gliwice
ATTACH;FMTTYPE=image/jpeg:https://night4u.pl/wp-content/uploads/2019/08/58
 072_image_68341942_2147679195340396_3605186657680097280_o.jpg
CATEGORIES:śląskie
LOCATION:Club 80 Gliwice\, Dubois 22\, Gliwice\, 44-100\, Poland
GEO:50.300203;18.672661
X-APPLE-STRUCTURED-LOCATION;VALUE=URI;X-ADDRESS=Dubois 22\, Gliwice\, 44-10
 0\, Poland;X-APPLE-RADIUS=100;X-TITLE=Club 80 Gliwice:geo:50.300203,18.672
 661
END:VEVENT
BEGIN:VTIMEZONE
TZID:Europe/Warsaw
X-LIC-LOCATION:Europe/Warsaw
BEGIN:DAYLIGHT
DTSTART:20190331T030000
TZOFFSETFROM:+0100
TZOFFSETTO:+0200
TZNAME:CEST
END:DAYLIGHT
END:VTIMEZONE
END:VCALENDAR