BEGIN:VCALENDAR
VERSION:2.0
PRODID:-//wp-events-plugin.com//7.2.3.1//EN
TZID:Europe/Warsaw
X-WR-TIMEZONE:Europe/Warsaw
BEGIN:VEVENT
UID:5504@night4u.pl
DTSTART;TZID=Europe/Warsaw:20190215T220000
DTEND;TZID=Europe/Warsaw:20190216T040000
DTSTAMP:20190131T125442Z
URL:https://night4u.pl/wydarzenia/retro-lovers-party-hybrydy/
SUMMARY:Retro Lovers Party / Hybrydy
DESCRIPTION:W repertuarze imprezy m.in.:\nABBA\, BEATLES\, BONEY M\, BON JO
 VI\, BILLY JOEL\, CHER\, DR ALBAN\, GEORGE MICHAEL\, MADONNA\, MICHAEL JAC
 KSON\, MODERN TALKING\, QUEEN\, RICK ASTLEY\, RICKY MARTIN\, SPICE GIRLS i
  wiele innych.\n\nZapraszamy wszystkich zakochanych w muzyce rozrywkowej z
  ubiegłego stulecia \;) W repertuarze wielobarwna mieszanka hiciorów\, k
 tóre podbijały listy przebojów w latach 1954-1999:  rock’n’roll\, d
 isco\, pop-rock\, synth-pop\, dance i r’n’b. \n\nJeśli nużą Cię mi
 ałkie wytwory współczesnego rynku muzycznego\, a lubisz pobawić się n
 a klubowym parkiecie\, to z pewnością impreza dla Ciebie! :)\n\n***\n\np
 iątek\, 15 lutego\n\ngodz.22\n\nHYBRYDY\, ul. Złota 7/9\n\nBilety: \n10p
 ln – lista FB*\n15pln – pozostali \n\n* Aby zapewnić sobie wejściów
 kę w cenie 10pln wystarczy oznaczyć się na stronie wydarzenia jako osob
 a biorąca udział. Listę zamykamy w dniu imprezy o godz.18.\n\n***\n\nZa
 praszają:\n\nRETRO LOVERS\nhttps://www.facebook.com/RetroLoversWarsaw/\n\
 nHYBRYDY\nhttps://hybrydy.pl/
ATTACH;FMTTYPE=image/jpeg:https://night4u.pl/wp-content/uploads/2019/01/16
 995_image_50748291_311433212836737_5481059125091631104_o.jpg
CATEGORIES:mazowieckie
LOCATION:Hybrydy\, Złota 7/9\, Warsaw\, 00-019\, Poland
GEO:52.23268;21.01157
X-APPLE-STRUCTURED-LOCATION;VALUE=URI;X-ADDRESS=Złota 7/9\, Warsaw\, 00-01
 9\, Poland;X-APPLE-RADIUS=100;X-TITLE=Hybrydy:geo:52.23268,21.01157
END:VEVENT
BEGIN:VTIMEZONE
TZID:Europe/Warsaw
X-LIC-LOCATION:Europe/Warsaw
BEGIN:STANDARD
DTSTART:20181028T020000
TZOFFSETFROM:+0200
TZOFFSETTO:+0100
TZNAME:CET
END:STANDARD
END:VTIMEZONE
END:VCALENDAR