BEGIN:VCALENDAR
VERSION:2.0
PRODID:-//wp-events-plugin.com//7.2.3.1//EN
TZID:Europe/Warsaw
X-WR-TIMEZONE:Europe/Warsaw
BEGIN:VEVENT
UID:51259@night4u.pl
DTSTART;TZID=Europe/Warsaw:20210828T220000
DTEND;TZID=Europe/Warsaw:20210829T040000
DTSTAMP:20210827T135944Z
URL:https://night4u.pl/wydarzenia/retro-party-5/
SUMMARY:RETRO PARTY
DESCRIPTION:🎵 50’s & 60’s rock’n’roll\n🎵 70’s disco\n🎵 8
 0’s poprock / synthpop\n🎵 90’s pop / dance / rock / r'n'b\n\n"This 
 is our time to dance!\nIt is our way of celebrating life.\nIt's the way it
  was in the beginning.\nIt's the way it's always been.\nIt's the way it sh
 ould be now."\n\n➖➖➖\n\n🏩 HYDROZAGADKA\, ul. 11 Listopada 22\n\n
 🎟 Bilety:\n0pln – lista FB* do godz.23\n10pln – lista FB*\n20pln 
 – pozostali\n* Aby zapewnić sobie wejściówkę w cenie 10pln (lub darm
 ową do godz.23) wystarczy oznaczyć się na stronie wydarzenia jako osoba
  biorąca udział. Listę FB zamykamy w dniu imprezy o godz.18.\n\n➖➖
 ➖\n\nZapraszają:\nRETRO LOVERS\nhttps://www.facebook.com/RetroLoversWar
 saw/\nHYDROZAGADKA\nhttps://www.facebook.com/klubhydrozagadka/ Pokaż mnie
 j
ATTACH;FMTTYPE=image/jpeg:https://night4u.pl/wp-content/uploads/2021/08/18
 6761_image_237362577_872455946734458_5618501837041686150_n.jpg
CATEGORIES:mazowieckie
LOCATION:Klub Hydrozagadka\, 11 listopada 22\, 03-436 Warszawa\, Poland\, P
 raga\, 03-436\, Poland
GEO:52.259283;21.036925
X-APPLE-STRUCTURED-LOCATION;VALUE=URI;X-ADDRESS=11 listopada 22\, 03-436 Wa
 rszawa\, Poland\, Praga\, 03-436\, Poland;X-APPLE-RADIUS=100;X-TITLE=Klub 
 Hydrozagadka:geo:52.259283,21.036925
END:VEVENT
BEGIN:VTIMEZONE
TZID:Europe/Warsaw
X-LIC-LOCATION:Europe/Warsaw
BEGIN:DAYLIGHT
DTSTART:20210328T030000
TZOFFSETFROM:+0100
TZOFFSETTO:+0200
TZNAME:CEST
END:DAYLIGHT
END:VTIMEZONE
END:VCALENDAR