BEGIN:VCALENDAR
VERSION:2.0
PRODID:-//wp-events-plugin.com//7.2.3.1//EN
TZID:Europe/Warsaw
X-WR-TIMEZONE:Europe/Warsaw
BEGIN:VEVENT
UID:48749@night4u.pl
DTSTART;TZID=Europe/Warsaw:20200228T220100
DTEND;TZID=Europe/Warsaw:20200229T060000
DTSTAMP:20200331T141924Z
URL:https://night4u.pl/wydarzenia/retropolis-latino-after-party-czyli-polo
 winki-san/
SUMMARY:RetroPolis Latino &amp\; After Party czyli Połowinki SAN
DESCRIPTION:Wyjątkowy piątek przy Piotrkowskiej 102. \nLordis: powrót do
  przeszłości czyli RetroPolis \nAbracadabra: Latino by Dj Gamma \nFooFoo
 : Hits &amp\; After Party by \n\nLordis Club &amp\; FooFoo Vip Lounge Bar\
 nul. Piotrkowska 102 \ninformacje &amp\; rezerwacje \nBasia Kubicka 662366
 366\n\ndata: 22.02.2020r\nstart 22:01 + After Party start 04:00\nwejście:
  \nPanie 10 zł\nPanowie 20zł \nkarty vip: free
ATTACH;FMTTYPE=image/jpeg:https://night4u.pl/wp-content/uploads/2020/02/16
 6673_image_86757031_3043098979034543_193208790277947392_o.jpg
CATEGORIES:łódzkie
LOCATION:Lordi's Club\, Piotrkowska 102\, Łódź\, 90-010\, Poland
GEO:51.765169;19.45859
X-APPLE-STRUCTURED-LOCATION;VALUE=URI;X-ADDRESS=Piotrkowska 102\, Łódź\,
  90-010\, Poland;X-APPLE-RADIUS=100;X-TITLE=Lordi's Club:geo:51.765169,19.
 45859
END:VEVENT
BEGIN:VTIMEZONE
TZID:Europe/Warsaw
X-LIC-LOCATION:Europe/Warsaw
BEGIN:STANDARD
DTSTART:20191027T020000
TZOFFSETFROM:+0200
TZOFFSETTO:+0100
TZNAME:CET
END:STANDARD
END:VTIMEZONE
END:VCALENDAR