BEGIN:VCALENDAR
VERSION:2.0
PRODID:-//wp-events-plugin.com//7.2.3.1//EN
TZID:Europe/Warsaw
X-WR-TIMEZONE:Europe/Warsaw
BEGIN:VEVENT
UID:6096@night4u.pl
DTSTART;TZID=Europe/Warsaw:20190209T200000
DTEND;TZID=Europe/Warsaw:20190209T233000
DTSTAMP:20190201T053802Z
URL:https://night4u.pl/wydarzenia/rewia-burleski-lodz-09-02-2019/
SUMMARY:Rewia Burleski Łódź 09.02.2019
DESCRIPTION:Rewia Burleski - Pin Up Candy - Łódź 09.02.2019\n\nNajlepsza
  dawka brokatu\, piór i rozrywki w stylu retro!\nDo klubu Scenografia wra
 ca Rewia Burleski z Pin Up Candy na czele.\nPo sukcesie zeszłorocznej edy
 cji wracamy do Was w nowym składzie z niesamowitymi pokazami. Na scenie k
 lubu wystąpi plejada polskich performerów:\n\nPin Up Candy - Królowa Po
 lskiej Burleski\, półfinalistka Mam Talent\, zdobywczyni korony na festi
 walu burleski w Moskwie\, prekursorka tej sztuki w Polsce i ambasadorka st
 ylu retro i pin-up!\n\nObok niej wystąpią diamenty sceny burleski w Pols
 ce Miss Lillet\, długonoga baletnica\, która swoimi pokazami zahipnotyzu
 je całą publiczność.\nDaisy Diamond - profesjonalna tancerka\, która 
 łączy w swych pokazach miłość do stylu retro i współczesną pasję 
 do tańca. \n\nWieczór poprowadzi wyjątkowy MC\, CNE czyli Człowiek Now
 ej Ery\, Tomek Kleyff\, raper\, którego znacie z projektów z Wujkiem Sam
 o Zło\, Kalibrem 44 oraz udziału w Baku Baku Skład.\n\nBilety 45 PLN (d
 o kupienia w dniu imprezy oraz online)\nstart wydarzenia 20:00\nstart poka
 zów 21:00\nrezerwacje: 534328709\n\npo pokazach o oprawę muzyczną zadba
  DJ
ATTACH;FMTTYPE=image/jpeg:https://night4u.pl/wp-content/uploads/2019/02/18
 232_image_50301944_1958533727529932_909890964846280704_o.jpg
CATEGORIES:łódzkie
LOCATION:Scenografia\, Zachodnia 81/83\, Łódź\, 90-402\, Poland
GEO:51.774869;19.451955
X-APPLE-STRUCTURED-LOCATION;VALUE=URI;X-ADDRESS=Zachodnia 81/83\, Łódź\,
  90-402\, Poland;X-APPLE-RADIUS=100;X-TITLE=Scenografia:geo:51.774869,19.4
 51955
END:VEVENT
BEGIN:VTIMEZONE
TZID:Europe/Warsaw
X-LIC-LOCATION:Europe/Warsaw
BEGIN:STANDARD
DTSTART:20181028T020000
TZOFFSETFROM:+0200
TZOFFSETTO:+0100
TZNAME:CET
END:STANDARD
END:VTIMEZONE
END:VCALENDAR