BEGIN:VCALENDAR
VERSION:2.0
PRODID:-//wp-events-plugin.com//7.2.3.1//EN
TZID:Europe/Warsaw
X-WR-TIMEZONE:Europe/Warsaw
BEGIN:VEVENT
UID:46770@night4u.pl
DTSTART;TZID=Europe/Warsaw:20200321T210000
DTEND;TZID=Europe/Warsaw:20200322T060000
DTSTAMP:20200309T055847Z
URL:https://night4u.pl/wydarzenia/richard-judge-show-me-love-xdemon-zielon
 a-gora/
SUMMARY:Richard Judge 'SHOW ME LOVE' // Xdemon Zielona Góra
DESCRIPTION:Richard Judge 🇬🇧 wokalista doskonale znany z takich hitó
 w jak:\n\nRobin Schulz Schulz &amp\; Richard Judge – 'SHOW ME LOVE'\nhtt
 ps://youtu.be/DMg8LwfXdyc\n\nKeanu Silva &amp\; Richard Judge - 'We Are Th
 e Greatest'\nhttps://youtu.be/dE3dnu5m1TM\n\nSpada feat. Richard Judge - '
 You &amp\; I'\nhttps://youtu.be/6MakppUYhUg\n\nNie możesz tego przegapić
  ! Dołącz do wydarzenia już dziś!\n\n☎ Rezerwacje ONLINE http://bit.
 ly/1RtF806\n INFO: 797 407 885 ☎\n\nNie zapomnij o kuszących promocjach
  w klubie X-DEMON:\n\nPROMOCJA URODZINOWA\nPROMOCJA NA WIECZÓR PANIEŃSKI
  \n\nOBSERWUJ NAS:\nwww.xdemon.pl\nwww.facebook.com/XDemon\nwww.instagram.
 com/xdemonzielonagora\nsnapchat: xdemonzg\n\nTylko w X-Demonie najlepsza i
 mpreza nie jest przypadkiem a regułą!
ATTACH;FMTTYPE=image/jpeg:https://night4u.pl/wp-content/uploads/2020/02/15
 3859_image_84875571_3940411839305904_2563512373772025856_o.jpg
CATEGORIES:lubuskie
LOCATION:X-Demon - Zielona Góra\, \, 
X-APPLE-STRUCTURED-LOCATION;VALUE=URI;X-ADDRESS=\, ;X-APPLE-RADIUS=100;X-TI
 TLE=X-Demon - Zielona Góra:geo:0,0
END:VEVENT
BEGIN:VTIMEZONE
TZID:Europe/Warsaw
X-LIC-LOCATION:Europe/Warsaw
BEGIN:STANDARD
DTSTART:20191027T020000
TZOFFSETFROM:+0200
TZOFFSETTO:+0100
TZNAME:CET
END:STANDARD
END:VTIMEZONE
END:VCALENDAR