BEGIN:VCALENDAR
VERSION:2.0
PRODID:-//wp-events-plugin.com//7.2.3.1//EN
TZID:Europe/Warsaw
X-WR-TIMEZONE:Europe/Warsaw
BEGIN:VEVENT
UID:39615@night4u.pl
DTSTART;TZID=Europe/Warsaw:20200215T200000
DTEND;TZID=Europe/Warsaw:20200216T030000
DTSTAMP:20200331T150121Z
URL:https://night4u.pl/wydarzenia/riders-connection-koncert-i-podroznicze-
 afterparty/
SUMMARY:Śladami Marzeń ★★ Koncert Riders Connection ★★ Peace and 
 Love
DESCRIPTION:8.Festiwal Podróżniczy Śladami Marzeń to największa imprez
 a podróżnicza w Wielkoplsce. W jej ramach oprócz prelekcji\, warsztató
 w i spotkań odbywa się Podróżnicze After Party.\nZdecydowaliście\, ż
 e impreza odbędzie się w klimacie \n★★ Peace and Love ★★\n\nImpr
 eza z koncertem  berlińskiego zespołu \n★★Riders Connection ★★ o
 raz podróżnicze AfterParty\, na którym zagra ★★ DJ Jasiu ★★ - o
 ficjalna impreza  Festiwal Podróżniczy Śladami Marzeń\, w tym roku odb
 ędzie się w sobotę 15.02.2020 w legendarnym poznańskim klubie u Bazyla
 . \n\nBilety w sprzedaży:\n★ 40pln do 12.02\n★ 50pln do 15.02 oraz w 
 kasach klubu.\nBILETY  ★ https://bit.ly/2MkWbEO ★       \n\nBędzie to
  przebierana impreza podróżnicza w klimacie Peace &amp\; Love. Imprezę 
 rozkręca Jaś Sieiński czyli niezawodny DJ Jasiu. \n\nRiders Connection 
 -  zespół powstał  2010 roku w Berlinie. W swojej muzyce łączą wyją
 tkową mieszankę reggae\, soul i folky blues. Dzięki temu tworzą swój 
 własny styl i niepowtarzalny rodzaj muzyki. Nie używają zestawu perkusy
 jnego\, a ich beatboxing guru Moritz wszystkie dźwięki tworzy swoimi ust
 ami. Dzięki temu tworzy unikalną frekwencję fukny beatów takich gatunk
 ów jak hip-hop\, techno oraz bębny\, bas\, a nawet narodowych Australijs
 ki instrument "Didgeridoo"\n\nWokalista i gitarzysta Phillip na koncertach
  przekazuje prawdziwą pasję i ekspresję publiczności\, dzięki swojemu
  dynamicznemu i urzekającemu głosowi. W czasie występu prezentuje cała
  barwę swojego głosu\, imituje trąbkę - a dzwięk bardzo łatwo pomyli
 ć z prawdziwym instrumentem. Tego warto posłuchać i zobaczyć na własn
 e oczy!\n\nZespół rozpoczął swoją karierę na ulicach Berlina - ich m
 uzyka zyskała w krótkim czasie wielu fanów\, efektem czego były trasy 
 koncertowe w Niemczech\, Szwajcarii i Republice Południowej Afryki. Wyst
 ęp podczas podróżniczego AfterParty bedzie ich drugim koncertem w Polsc
 e. Wydali 3 płyty: Natural Sound System\, Colour Me oraz najnowszą "Band
 " wydali w powiększonym składzie i w takim się tez pojawią na Festiwal
 u.\n\nWszystko na świecie to połaczenie podróży i przeżycia. Dlatego 
 na scenie zawsze dodają dużą dawkę humoru\, śpiewają chóralne dzwi
 ęki\, a publiczności dostarczają niezapomnianych wrażeń.\n\nRiders Co
 nnection wystapili pierwszy raz w Polsce w ramach 6. edycji Festiwalu. Ter
 az przyjeżdzają ponownie z nową płytą oraz w powiększonym składzie.
  To gwarancja jeszcze większej dawki emocji i energii na festiwalu.
CATEGORIES:wielkopolskie
LOCATION:Klub u Bazyla\, ul. Norwida 18A\, Poznan\, 60-867\, Poland
GEO:52.416733;16.911755
X-APPLE-STRUCTURED-LOCATION;VALUE=URI;X-ADDRESS=ul. Norwida 18A\, Poznan\, 
 60-867\, Poland;X-APPLE-RADIUS=100;X-TITLE=Klub u Bazyla:geo:52.416733,16.
 911755
END:VEVENT
BEGIN:VTIMEZONE
TZID:Europe/Warsaw
X-LIC-LOCATION:Europe/Warsaw
BEGIN:STANDARD
DTSTART:20191027T020000
TZOFFSETFROM:+0200
TZOFFSETTO:+0100
TZNAME:CET
END:STANDARD
END:VTIMEZONE
END:VCALENDAR