BEGIN:VCALENDAR
VERSION:2.0
PRODID:-//wp-events-plugin.com//7.2.3.1//EN
TZID:Europe/Warsaw
X-WR-TIMEZONE:Europe/Warsaw
BEGIN:VEVENT
UID:20993@night4u.pl
DTSTART;TZID=Europe/Warsaw:20190713T220000
DTEND;TZID=Europe/Warsaw:20190714T050000
DTSTAMP:20190704T024521Z
URL:https://night4u.pl/wydarzenia/rink-lista-fb-do-23-wstep-free/
SUMMARY:RINK | lista fb do 23 wstep free
DESCRIPTION:Sobotnie letnie wieczory rozgrzewamy najlepszymi wakacyjnymi nu
 merami\, najnowsze przeboje jak i te gatunku rnb\, pop\, lata 90te \n\nDVJ
  RINK\n\n\nREZERWACJE:\nOliwia 504 989 948\nhttp://bit.ly/1NsNghc\n\nStart
 : 22.00\nwstęp:20 pln\nkarty klubowe wejście FREE\,\nlista FB* do 23.00 
 wejście FREE \nwstęp od 21 lat\nselekcja\npokolenie 30+ wstęp macie za 
 free - szanujemy doświadczenie imprezowe\, tak więc pokażcie jak to si
 ę robi - zapraszamy!\n\n*wejście do klubu na listę fb jest jednorazowe 
 w ciągu danej imprezy\, ponowny wstęp wiąże się z opłatą za wejści
 e\, listę zamykamy o 21
ATTACH;FMTTYPE=image/jpeg:https://night4u.pl/wp-content/uploads/2019/07/50
 165_image_65423509_2843315522352189_6262183354041368576_n.jpg
CATEGORIES:wielkopolskie
LOCATION:Klub Czekolada Poznań\, Poznan\, Poland
GEO:52.40609;16.93264
X-APPLE-STRUCTURED-LOCATION;VALUE=URI;X-ADDRESS=Poznan\, Poland;X-APPLE-RAD
 IUS=100;X-TITLE=Klub Czekolada Poznań:geo:52.40609,16.93264
END:VEVENT
BEGIN:VTIMEZONE
TZID:Europe/Warsaw
X-LIC-LOCATION:Europe/Warsaw
BEGIN:DAYLIGHT
DTSTART:20190331T030000
TZOFFSETFROM:+0100
TZOFFSETTO:+0200
TZNAME:CEST
END:DAYLIGHT
END:VTIMEZONE
END:VCALENDAR