BEGIN:VCALENDAR
VERSION:2.0
PRODID:-//wp-events-plugin.com//7.2.3.1//EN
TZID:Europe/Warsaw
X-WR-TIMEZONE:Europe/Warsaw
BEGIN:VEVENT
UID:49419@night4u.pl
DTSTART;TZID=Europe/Warsaw:20200314T220000
DTEND;TZID=Europe/Warsaw:20200315T050000
DTSTAMP:20200314T041212Z
URL:https://night4u.pl/wydarzenia/ritmo-latino-w-teatro-cubano-bling-dance
 show-dj-angelo/
SUMMARY:Ritmo Latino w Teatro Cubano! BLING Danceshow &amp\; Dj Angelo
DESCRIPTION:BLING Danceshow &amp\; dj Angelo Romeo Boricua\n\nmore info soo
 n
ATTACH;FMTTYPE=image/jpeg:https://night4u.pl/wp-content/uploads/2020/03/17
 1224_image_87956012_1625430800941676_6746496781304987648_o.jpg
CATEGORIES:małopolskie
LOCATION:Teatro Cubano Krakow - Resto & Rum Bar\, Jagiellońska 10\, Krakó
 w\, 31-010\, Poland
GEO:50.062064;19.934683
X-APPLE-STRUCTURED-LOCATION;VALUE=URI;X-ADDRESS=Jagiellońska 10\, Kraków\
 , 31-010\, Poland;X-APPLE-RADIUS=100;X-TITLE=Teatro Cubano Krakow - Resto 
 & Rum Bar:geo:50.062064,19.934683
END:VEVENT
BEGIN:VTIMEZONE
TZID:Europe/Warsaw
X-LIC-LOCATION:Europe/Warsaw
BEGIN:STANDARD
DTSTART:20191027T020000
TZOFFSETFROM:+0200
TZOFFSETTO:+0100
TZNAME:CET
END:STANDARD
END:VTIMEZONE
END:VCALENDAR