BEGIN:VCALENDAR
VERSION:2.0
PRODID:-//wp-events-plugin.com//7.2.3.1//EN
TZID:Europe/Warsaw
X-WR-TIMEZONE:Europe/Warsaw
BEGIN:VEVENT
UID:3442@night4u.pl
DTSTART;TZID=Europe/Warsaw:20190221T190000
DTEND;TZID=Europe/Warsaw:20190221T220000
DTSTAMP:20190414T211530Z
URL:https://night4u.pl/wydarzenia/rival-sons-21-02-2019-warszawa-stodola/
SUMMARY:Rival Sons: 21.02.2019 Warszawa\, Stodoła
DESCRIPTION:Agencja Go Ahead zaprasza na koncert Rival Sons! Amerykański z
 espół zagra 21 lutego w warszawskiej Stodole!\n\nRival Sons inspirują s
 ię głównie hard-rockiem i bluesem. Grupa powstała w 2008 roku w słone
 cznej Kalifornii\, a pierwszy materiał Rival Sons\, zatytułowany „Befo
 re The Fire”\, powstał rok później. W 2010 roku muzycy podpisali kont
 rakt płytowy z wytwórnią Earache Records\, a wynikiem tej współpracy 
 jest ich najpopularniejszy dotąd krążek - „Pressure & Time”.\n\n\n\
 nObecnie mają już na koncie pięć studyjnych albumów\, a na początku 
 2018 roku grupa ogłosiła przejście do nowej wytwórni (Low Country Soun
 d). Rival Sons są znani przede wszystkim z wyśmienitych koncertów! Muzy
 cy mieli już okazję występować u boku m.in. Alice Cooper\, Kid Rocka i
  Judas Priest. Na koncie mają również supportowanie takich rockowych le
 gend jak Deep Purple\, Black Sabbath i Aerosmith. Mimo kilkukrotnych już 
 wizyt w Polsce zespół wciąż cieszy się wzrastającą popularnością 
 w naszym kraju i gra zawsze dla pełnych klubów - z pewnością będzie t
 ak i tym razem! Dodatkowo\, przed Rival Sons zagrają The Sheepdogs.\n\n\n
 Przypominamy\, że kupując bilety od osób umieszczających oferty odsprz
 edaży na Facebooku możecie Państwo zostać oszukani – ryzykujecie w t
 en sposób kupno fałszywych wejściówek\, które nie umożliwią wejści
 a na koncert. Prosimy o kupowanie biletów wyłącznie w autoryzowanych pu
 nktach sprzedaży! Autoryzowanymi punktami sprzedaży nie są m.in. Viagog
 o\, Ticketswap\, Allegro\, OLX. \n\nData: 2019-02-21 (czwartek)\nMiasto: W
 arszawa\nMiejsce: Stodoła\nAdres: ul. Batorego 10\nGodziny: wejście - 19
 :00 // start koncertu - 20:00\nCena biletów: \nmiejsca stojące: 105 zł 
 (przedsprzedaż) / 120 zł (w dniu koncertu)\nmiejsca siedzące (balkon): 
 120 zł (przedsprzedaż) / 140 zł (w dniu koncertu)\nMiejsca sprzedaży: 
 www.go-ahead.pl\, www.biletomat.pl\, www.ebilet.pl\, www.ticketmaster.pl\,
  www.ticketclub.pl www.empikbilety.pl\, oraz sklepy sieci Empik\, Media Ma
 rkt\, Saturn. Bilety są również dostępne w kasie Klubu oraz na www.sto
 dola.pl
ATTACH;FMTTYPE=image/jpeg:https://night4u.pl/wp-content/uploads/2019/01/11
 040_image_44228332_10161102267740486_297455974493454336_o.jpg
CATEGORIES:mazowieckie
LOCATION:klub Stodoła\, \, 
X-APPLE-STRUCTURED-LOCATION;VALUE=URI;X-ADDRESS=\, ;X-APPLE-RADIUS=100;X-TI
 TLE=klub Stodoła:geo:0,0
END:VEVENT
BEGIN:VTIMEZONE
TZID:Europe/Warsaw
X-LIC-LOCATION:Europe/Warsaw
BEGIN:STANDARD
DTSTART:20181028T020000
TZOFFSETFROM:+0200
TZOFFSETTO:+0100
TZNAME:CET
END:STANDARD
END:VTIMEZONE
END:VCALENDAR