BEGIN:VCALENDAR
VERSION:2.0
PRODID:-//wp-events-plugin.com//7.2.3.1//EN
TZID:Europe/Warsaw
X-WR-TIMEZONE:Europe/Warsaw
BEGIN:VEVENT
UID:26880@night4u.pl
DTSTART;TZID=Europe/Warsaw:20191004T180000
DTEND;TZID=Europe/Warsaw:20191004T220000
DTSTAMP:20190907T180054Z
URL:https://night4u.pl/wydarzenia/roast-adbustera/
SUMMARY:Roast AdBustera!
DESCRIPTION:SPRAWDŹMY TO! ? ? ? \nZ wielką przyjemnością i dumą Kancel
 aria Stand-Upu Burewicz & Natkaniec ma zaszczyt zaprezentować Państwu na
 jostrzejsze wydarzenie komediowe tej jesieni ?!\nPodczas otwarcia sezonu w
  Klub 9stóp\, na wspólnej scenie spotkają się komicy z całej Polski\,
  oraz znani i lubiani youtuberzy\, żeby zrobić konfrontację poczucia hu
 moru jedynej w swoim rodzaju i niepowtarzalnej gwiazdy jaką jest AdBuster
  ⭐\, w roaście na który Stolica Wielkopolski czekała! ? ? ? \n\nBawi 
 nas od lat\, ale jak zniesie ostrzał ciężkich żartów?\nZapewniamy - b
 ędzie brudno\, bezlitośnie i\, rzecz jasna\, nieprawdopodobnie śmieszni
 e!. \n\nKolejne nazwiska będą się tu pojawiać w najbliższych dniach\,
  więc miejcie oczy i uszy otwarte! ??\nTo jest wydarzenie\, przed którym
  ostrzegali Was rodzice.\nI takie\, którego nie da się przegapić!\n\nIm
 preza ma charakter charytatywny. Dochód z biletów przeznaczony będzie n
 a wsparcie Gnieźnieński Oddział Towarzystwa Opieki nad Zwierzętami\nPo
  solidnej dawce komedii klub zaprasza na afterparty z DJem ? \n\nBilety do
  nabycia on-line:\n? http://kbq.pl/42018\nw cenie 30 zł / 40 zł (w dniu 
 wydarzenia) \n\n/wydarzenie przeznaczone dla widzów pełnoletnich.
ATTACH;FMTTYPE=image/jpeg:https://night4u.pl/wp-content/uploads/2019/09/62
 663_image_69863982_474467799951291_8970004292496785408_n.jpg
CATEGORIES:wielkopolskie
LOCATION:Klub 9stóp\, Piątkowska 92\, Poznan\, 60-649\, Poland
GEO:52.429505;16.917341
X-APPLE-STRUCTURED-LOCATION;VALUE=URI;X-ADDRESS=Piątkowska 92\, Poznan\, 6
 0-649\, Poland;X-APPLE-RADIUS=100;X-TITLE=Klub 9stóp:geo:52.429505,16.917
 341
END:VEVENT
BEGIN:VTIMEZONE
TZID:Europe/Warsaw
X-LIC-LOCATION:Europe/Warsaw
BEGIN:DAYLIGHT
DTSTART:20190331T030000
TZOFFSETFROM:+0100
TZOFFSETTO:+0200
TZNAME:CEST
END:DAYLIGHT
END:VTIMEZONE
END:VCALENDAR