BEGIN:VCALENDAR
VERSION:2.0
PRODID:-//wp-events-plugin.com//7.2.3.1//EN
TZID:Europe/Warsaw
X-WR-TIMEZONE:Europe/Warsaw
BEGIN:VEVENT
UID:3022@night4u.pl
DTSTART;TZID=Europe/Warsaw:20190118T210000
DTEND;TZID=Europe/Warsaw:20190119T040000
DTSTAMP:20190108T162550Z
URL:https://night4u.pl/wydarzenia/rock-and-bass/
SUMMARY:Rock and Bass
DESCRIPTION:Zapraszamy Was na noc ze skocznym rockiem\, oraz porządnym ele
 ktronicznym bassem. Dawno tego nie graliśmy... Mamy nadzieję\, że przyb
 ędziecie tłumnie.\n\n Zagra dla Was specjalista ♪ DJ Vesouw (Wesół)!
 \nhttps://www.mixcloud.com/vesouw/dj-vesouw-ragga-dnb-mechaniczna-pomaranc
 za-live-set-cut/\n\nKiedy? 18.01.2019\nWstęp darmowy\nstartujemy o godzin
 ie 21:00!\n\n✂\n\nMechaniczna Pomarańcza\nUl. Do Studzienki 61\nhttps:/
 /facebook.com/klubmechaniczna/
ATTACH;FMTTYPE=image/jpeg:https://night4u.pl/wp-content/uploads/2019/01/10
 155_image_49716178_2582473848445823_5489758873407455232_n.jpg
CATEGORIES:pomorskie
LOCATION:Mechaniczna Pomarańcza\, Do Studzienki 61\, Gdansk\, 80-227\, Pol
 and
GEO:54.369531;18.61039
X-APPLE-STRUCTURED-LOCATION;VALUE=URI;X-ADDRESS=Do Studzienki 61\, Gdansk\,
  80-227\, Poland;X-APPLE-RADIUS=100;X-TITLE=Mechaniczna Pomarańcza:geo:54
 .369531,18.61039
END:VEVENT
BEGIN:VTIMEZONE
TZID:Europe/Warsaw
X-LIC-LOCATION:Europe/Warsaw
BEGIN:STANDARD
DTSTART:20181028T020000
TZOFFSETFROM:+0200
TZOFFSETTO:+0100
TZNAME:CET
END:STANDARD
END:VTIMEZONE
END:VCALENDAR