BEGIN:VCALENDAR
VERSION:2.0
PRODID:-//wp-events-plugin.com//7.2.3.1//EN
TZID:Europe/Warsaw
X-WR-TIMEZONE:Europe/Warsaw
BEGIN:VEVENT
UID:7174@night4u.pl
DTSTART;TZID=Europe/Warsaw:20190302T210000
DTEND;TZID=Europe/Warsaw:20190303T060000
DTSTAMP:20190213T180817Z
URL:https://night4u.pl/wydarzenia/rock-night-2/
SUMMARY:Rock Night
DESCRIPTION:Gitarowa jazda bez trzymanki!\nRockowo-metalowo-gotycka uczta d
 o rana! :)\nROCK NIGHT - impreza z 10-letnią tradycją :)\n\nPrzy złotym
  napoju chmielowym będzie można uprawiać rockowe pląsy i fikołki przy
  takich klimatach jak: rock\, alternative\, grunge\, hard rock\, nu metal\
 , heavy metal\, metal\, gothic...\n\nImprezę poprowadzi:\nJACA - muza/św
 iatło/wizualka.\nDJ\, organizator\, animator muzyczny\, rezydent/menadże
 r Klubu Metro.\nOd 2009r. organizuje/gra rockowe imprezy: Rock Night\, Roc
 k'N'Roll Is King!\, Flower Power Night\, Depeche Mode & The Cure Party\, H
 alloween Rockowy\, Valentine's Day-Vampire's Rock Night\, Polski Rock - Do
 bry Rock\, Schism...\nW swoich setach zawsze wierny starym mistrzom\, nie 
 zapomina o nowościach\, a jednocześnie pamięta i promuje krajową scen
 ę.\nhttps://www.youtube.com/watch?v=TnPOSs04aCk\nhttp://trojmiasto.tv/Klu
 b-METRO-Nocne-zycie-Trojmiasta-8437.html\nhttps://www.youtube.com/watch?v=
 YxxLDnU1VQM\nhttps://web.facebook.com/djjaca.jacenty\n\nPonad 25 gatunków
  piwka! \nCydry\, shoty\, driny i duży wybór innych alkoholi!\nWstęp +1
 8\nWjazd 10 zł\n\nps. Facebook wprowadził dla organizatorów imprez/konc
 ertów bardzo duże ograniczenia ilości zaproszeń (50 osób) \, więc pr
 ośba i uśmiech do Was\, abyście zapraszali się nawzajem i udostępnial
 i wydarzenie :)\n(z góry dziękujemy w imieniu organizatorów :) )
ATTACH;FMTTYPE=image/jpeg:https://night4u.pl/wp-content/uploads/2019/02/20
 665_image_51648888_2063053700477324_177813475710468096_o.jpg
CATEGORIES:pomorskie
LOCATION:Klub Medyk\, ul. Dębowa 7\, Gdansk\, 80-204\, Poland
GEO:54.361387;18.629299
X-APPLE-STRUCTURED-LOCATION;VALUE=URI;X-ADDRESS=ul. Dębowa 7\, Gdansk\, 80
 -204\, Poland;X-APPLE-RADIUS=100;X-TITLE=Klub Medyk:geo:54.361387,18.62929
 9
END:VEVENT
BEGIN:VTIMEZONE
TZID:Europe/Warsaw
X-LIC-LOCATION:Europe/Warsaw
BEGIN:STANDARD
DTSTART:20181028T020000
TZOFFSETFROM:+0200
TZOFFSETTO:+0100
TZNAME:CET
END:STANDARD
END:VTIMEZONE
END:VCALENDAR