BEGIN:VCALENDAR
VERSION:2.0
PRODID:-//wp-events-plugin.com//7.2.3.1//EN
TZID:Europe/Warsaw
X-WR-TIMEZONE:Europe/Warsaw
BEGIN:VEVENT
UID:35492@night4u.pl
DTSTART;TZID=Europe/Warsaw:20191107T200000
DTEND;TZID=Europe/Warsaw:20191108T020000
DTSTAMP:20191107T221845Z
URL:https://night4u.pl/wydarzenia/rockowe-karaoke-w-ridersie-23/
SUMMARY:ROCKOWE KARAOKE W RIDERSIE!
DESCRIPTION:Zapraszamy na jedyne\, najlepsze i niepowtarzalne rockowe karao
 ke w każdy czwartek w Ridersie więc wpiszcie sobie to wydarzenie na sta
 łe do swojego kalendarza 🎤🎶☠️\nImprezę poprowadzi najlepsza Ma
 rtyna Mia Pomorska 😀
ATTACH;FMTTYPE=image/jpeg:https://night4u.pl/wp-content/uploads/2019/11/93
 383_image_76959427_3106680932736867_6685857808795041792_n.jpg
CATEGORIES:lubelskie
LOCATION:Rider's Pub Lublin\, 3 Maja 9\, Lublin\, 20-078\, Poland
GEO:51.250675;22.558363
X-APPLE-STRUCTURED-LOCATION;VALUE=URI;X-ADDRESS=3 Maja 9\, Lublin\, 20-078\
 , Poland;X-APPLE-RADIUS=100;X-TITLE=Rider's Pub Lublin:geo:51.250675,22.55
 8363
END:VEVENT
BEGIN:VTIMEZONE
TZID:Europe/Warsaw
X-LIC-LOCATION:Europe/Warsaw
BEGIN:STANDARD
DTSTART:20191027T020000
TZOFFSETFROM:+0200
TZOFFSETTO:+0100
TZNAME:CET
END:STANDARD
END:VTIMEZONE
END:VCALENDAR