BEGIN:VCALENDAR
VERSION:2.0
PRODID:-//wp-events-plugin.com//7.2.3.1//EN
TZID:Europe/Warsaw
X-WR-TIMEZONE:Europe/Warsaw
BEGIN:VEVENT
UID:51860@night4u.pl
DTSTART;TZID=Europe/Warsaw:20250821T170000
DTEND;TZID=Europe/Warsaw:20250823T235900
DTSTAMP:20250522T192726Z
URL:https://night4u.pl/wydarzenia/rockowizna-festiwal-2025-poznan/
SUMMARY:Rockowizna Festiwal 2025 - Poznań
DESCRIPTION:ROCKOWIZNA 2025 – mocne rockowe granie i niezapomniany klimat
 .\n21-23 sierpnia – widzimy się na terenach zielonych lotniska Poznań 
 Ławica.\nNie może Was zabraknąć!\n\nFantastyczny line-up\, wspaniała 
 atmosfera i najlepsza publiczność.\nOd sentymentalnej podróży w czasie
  po współczesne rockowe brzmienia.\nFestiwal Rockowizna łączy pokoleni
 a w rytm dobrego\, gitarowego grania!\n\nW tym roku zagrają dla Was:\nACI
 D DRINKERS\, KULT\, NOCNY KOCHANEK\, THE EXPLOITED\, CLAWFINGER\, FUN LOVI
 N' CRIMINALS\,\nMYSLOVITZ\, BIG CYC\, FARBEN LEHRE\,\nHAPPYSAD\, FLAPJACK\
 , KSU\, ILLUSION\, PULL THE WIRE\, ZENEK KUPATASA\, WOJTEK SZUMAŃSKI\, LE
 J MI PÓŁ\, HAMULEC.\n\nWIELKI POWRÓT ACID DRINKERS!\nTegoroczny festiwa
 l będzie jedyną okazją\, by usłyszeć legendę polskiego heavy metalu.
  Po 26 latach ACID DRINKERS powracają w pierwotnym składzie: Titus\, Lit
 za\, Popcorn i Ślimak. W 2025 zagrają TYLKO na Rockowiźnie: w Gdańsku 
 (8-9.08.2025)\, Poznaniu i Krakowie (29-30.08.2025).\n\nPOCZUJ PRAWDZIWY F
 ESTIWALOWY KLIMAT!\nW tym roku będziecie mogli skorzystać z pola namioto
 wego\, znajdującego się\nna terenie festiwalu\, które w ubiegłym roku 
 cieszyło się ogromnym zainteresowaniem.\nWschody i zachody słońca z ni
 esamowitym widokiem na startujące samoloty - gwarantowane!\n\nDla osób\,
  które zdecydują się skorzystać z pola namiotowego\, przewidzianych je
 st wiele bezpłatnych atrakcji. Będą to między innymi ciekawe prelekcje
 \, praktyczne warsztaty oraz spotkania z inspirującymi ludźmi! Z pewnoś
 cią każdy znajdzie coś dla siebie.\n\nWybierz opcję noclegu w plenerze
  i poczuj prawdziwy festiwalowy klimat.\n\nBędzie mocno\, będzie prawdzi
 wie\, będzie rockowo!\nTaka właśnie jest Rockowizna!
ATTACH;FMTTYPE=image/jpeg:https://night4u.pl/wp-content/uploads/2025/05/Ro
 ckowizna-Festiwal-2025-Poznan.jpg
CATEGORIES:wielkopolskie
LOCATION:Port Lotniczy Poznań-Ławica im. Henryka Wieniawskiego\, Port Lot
 niczy Poznań-Ławica im. Henryka Wieniawskiego\, 
X-APPLE-STRUCTURED-LOCATION;VALUE=URI;X-ADDRESS=Port Lotniczy Poznań-Ławi
 ca im. Henryka Wieniawskiego\, ;X-APPLE-RADIUS=100;X-TITLE=Port Lotniczy P
 oznań-Ławica im. Henryka Wieniawskiego:geo:0,0
END:VEVENT
BEGIN:VTIMEZONE
TZID:Europe/Warsaw
X-LIC-LOCATION:Europe/Warsaw
BEGIN:DAYLIGHT
DTSTART:20250330T030000
TZOFFSETFROM:+0100
TZOFFSETTO:+0200
TZNAME:CEST
END:DAYLIGHT
END:VTIMEZONE
END:VCALENDAR