BEGIN:VCALENDAR
VERSION:2.0
PRODID:-//wp-events-plugin.com//7.2.3.1//EN
TZID:Europe/Warsaw
X-WR-TIMEZONE:Europe/Warsaw
BEGIN:VEVENT
UID:25851@night4u.pl
DTSTART;TZID=Europe/Warsaw:20190907T220000
DTEND;TZID=Europe/Warsaw:20190908T060000
DTSTAMP:20190830T162744Z
URL:https://night4u.pl/wydarzenia/roczek-punto-koncert-gosi-andrzejewicz/
SUMMARY:Roczek Punto/ Koncert Gosi Andrzejewicz
DESCRIPTION:"kochani?\, a więc nadeszła ta wielka chwila?czekaliśmy na n
 ią długo\, ?inni bardziej\, inni mniej\, a inni wręcz przeciwnie ?? Pan
 ie i Panowie oto nasz pierwszy roczek ? i z tej okazji mamy zaszczyt was z
 aprosić  do świętowania razem z nami gdyż ten dzień jest także waszy
 m ??miło nam także was poinformować że do grona świętujących dołą
 czyła Gosia Andrzejewicz❤️?\, kobieta o niezwykłym charakterze niczy
 m w powieści Louisa May Alcotta?\, o charakterystycznym głosie który po
 trafi wprawić w odpowiedni nastrój ?\nSupport : Filodendron Monstera \nW
 ejście: Podgórna 12/ Św. Marcin 8\nStart: Pub 18.00\, Disco 22.00\nBile
 ty  do kupienia w godzinach otwarcia klubu :\nPrzedsprzedaż: 15 zł \nw d
 niu Imprezy : 20 zł
ATTACH;FMTTYPE=image/jpeg:https://night4u.pl/wp-content/uploads/2019/08/60
 528_image_70075469_469644996949512_7901796593987223552_n.jpg
CATEGORIES:wielkopolskie
LOCATION:Punto Punto Club\, Podgórna 12\, Poznan\, 61-828\, Poland
GEO:52.40596;16.92945
X-APPLE-STRUCTURED-LOCATION;VALUE=URI;X-ADDRESS=Podgórna 12\, Poznan\, 61-
 828\, Poland;X-APPLE-RADIUS=100;X-TITLE=Punto Punto Club:geo:52.40596,16.9
 2945
END:VEVENT
BEGIN:VTIMEZONE
TZID:Europe/Warsaw
X-LIC-LOCATION:Europe/Warsaw
BEGIN:DAYLIGHT
DTSTART:20190331T030000
TZOFFSETFROM:+0100
TZOFFSETTO:+0200
TZNAME:CEST
END:DAYLIGHT
END:VTIMEZONE
END:VCALENDAR