BEGIN:VCALENDAR
VERSION:2.0
PRODID:-//wp-events-plugin.com//7.2.3.1//EN
TZID:Europe/Warsaw
X-WR-TIMEZONE:Europe/Warsaw
BEGIN:VEVENT
UID:3050@night4u.pl
DTSTART;TZID=Europe/Warsaw:20190113T110000
DTEND;TZID=Europe/Warsaw:20190113T160000
DTSTAMP:20190108T171344Z
URL:https://night4u.pl/wydarzenia/rodzinne-granie-2/
SUMMARY:Rodzinne granie :)
DESCRIPTION:RODZINNE GRANIE  \n\nSpędź miło i aktywnie czas z najbliższ
 ymi w klubie Kula Bowling & Club!  Do każdej zakupionej godziny gry w kr
 ęgle lub bilard - druga godzina GRATIS!  Na miejscu także pyszna pizza\,
  makarony\, sałatki  i napoje \;-) Zapraszamy! \n\n*Promocja obowiązuje 
 od godziny 11:00 do 16:00.\n\nRezerwacje torów: 502 810 487 lub 17 717 90
  60 wew.20
ATTACH;FMTTYPE=image/jpeg:https://night4u.pl/wp-content/uploads/2019/01/10
 222_image_49729305_1850653281728240_29773413375541248_o.jpg
CATEGORIES:podkarpackie
LOCATION:Kula  Bowling &amp\; Club\, Krakowska 20\, Rzeszów\, 35-111\, Pol
 and
GEO:50.048906;21.975939
X-APPLE-STRUCTURED-LOCATION;VALUE=URI;X-ADDRESS=Krakowska 20\, Rzeszów\, 3
 5-111\, Poland;X-APPLE-RADIUS=100;X-TITLE=Kula  Bowling & Club:geo:50.0489
 06,21.975939
END:VEVENT
BEGIN:VTIMEZONE
TZID:Europe/Warsaw
X-LIC-LOCATION:Europe/Warsaw
BEGIN:STANDARD
DTSTART:20181028T020000
TZOFFSETFROM:+0200
TZOFFSETTO:+0100
TZNAME:CET
END:STANDARD
END:VTIMEZONE
END:VCALENDAR