BEGIN:VCALENDAR
VERSION:2.0
PRODID:-//wp-events-plugin.com//7.2.3.1//EN
TZID:Europe/Warsaw
X-WR-TIMEZONE:Europe/Warsaw
BEGIN:VEVENT
UID:34315@night4u.pl
DTSTART;TZID=Europe/Warsaw:20191102T210000
DTEND;TZID=Europe/Warsaw:20191103T040000
DTSTAMP:20191031T073333Z
URL:https://night4u.pl/wydarzenia/roko-house-concept-roko-sprytnyjim-dvjde
 e/
SUMMARY:Roko House Concept /Roko/SprytnyJim/DvjDee
DESCRIPTION:W pierwszą sobotę listopada ruszymy z kopyta ! 😁😎\nNasz
 ym gościem podczas sobotniej imprezy będzie🎧 DJ ROKO  🎧ze swoimi d
 źwiękami House\, Deep & Good Club Music. 💃🕺\nWciągniemy Was w kli
 mat Sunrise Festival ☀️☀️☀️\n🤩🤩🤩🤩\nPoniżej wysył
 amy Was do materiałów⤵️\nwww.facebook.com/deejayroko\nwww.soundcloud
 .com/deejayroko\nwww.instagram.com/djroko_music\nwww.youtube.com/user/TheD
 jRoko\n\nNie przegapcie takiej imprezy !!!\n😎😎😎😎😎😎
ATTACH;FMTTYPE=image/jpeg:https://night4u.pl/wp-content/uploads/2019/10/88
 280_image_72744800_2487835457921075_5345696208486662144_o.jpg
CATEGORIES:wielkopolskie
LOCATION:Bowling Rodło\, Al. Piastów 15\, Piła\, 64-920\, Poland
GEO:53.149941;16.739017
X-APPLE-STRUCTURED-LOCATION;VALUE=URI;X-ADDRESS=Al. Piastów 15\, Piła\, 6
 4-920\, Poland;X-APPLE-RADIUS=100;X-TITLE=Bowling Rodło:geo:53.149941,16.
 739017
END:VEVENT
BEGIN:VTIMEZONE
TZID:Europe/Warsaw
X-LIC-LOCATION:Europe/Warsaw
BEGIN:STANDARD
DTSTART:20191027T020000
TZOFFSETFROM:+0200
TZOFFSETTO:+0100
TZNAME:CET
END:STANDARD
END:VTIMEZONE
END:VCALENDAR