BEGIN:VCALENDAR
VERSION:2.0
PRODID:-//wp-events-plugin.com//7.2.3.1//EN
TZID:Europe/Warsaw
X-WR-TIMEZONE:Europe/Warsaw
BEGIN:VEVENT
UID:28501@night4u.pl
DTSTART;TZID=Europe/Warsaw:20191030T210000
DTEND;TZID=Europe/Warsaw:20191031T040000
DTSTAMP:20191030T063747Z
URL:https://night4u.pl/wydarzenia/ronnie-ferrari-%e2%98%85-ona-by-tak-chci
 ala-%e2%98%85-sr-30-10/
SUMMARY:Creepy Night - Halloween ★ Śr. 30.10
DESCRIPTION:ŚRODA! Już w środę 30 Października szykuje się Halloweeno
 wy before! 👹👺 Pomarańcza zaprasza na Creepy Night! Bądź z nami i 
 baw się na najlepszej imprezie studenckiej w mieście!\n\n--\nINFORMACJE\
 n📅 30.10 - ŚRODA\n🕘 Start: 21:00\n🔞 Selekcja: +18\n🎫 Wstęp: 
 \nStudenci - 5zł\nReszta świata - 10zł\nWszyscy do 22:00 - WSTĘP FREE\
 n📌 Katowice\, ul. Mickiewicza 4\, Galeria Skarbek (Rynek)\n--\nPROMOCJE
 \n🎂 Odprawimy Twoje urodziny!\nA także zorganizujemy:\n💃 Wieczór P
 anieński\n🕺 Wieczór Kawalerski\nRezerwacje od wtorku do soboty od 13:
 00 do 21:00\n📱 536 901 907\n📧 mojaimpreza@pomaranczagroup.pl\n--\nMU
 ZYKA\nSALA KLUBOWA ▶ CAMILLO\n--\nINSTAGRAM\nwww.instagram.com/pomarancz
 a_katowice
ATTACH;FMTTYPE=image/jpeg:https://night4u.pl/wp-content/uploads/2019/10/65
 981_image_74217334_2798798696805800_2415645012072071168_o.jpg
CATEGORIES:śląskie
LOCATION:Klub Pomarańcza Katowice\, Mickiewicza 4\, Katowice\, 40-092\, Po
 land
GEO:50.25976;19.02082
X-APPLE-STRUCTURED-LOCATION;VALUE=URI;X-ADDRESS=Mickiewicza 4\, Katowice\, 
 40-092\, Poland;X-APPLE-RADIUS=100;X-TITLE=Klub Pomarańcza Katowice:geo:5
 0.25976,19.02082
END:VEVENT
BEGIN:VTIMEZONE
TZID:Europe/Warsaw
X-LIC-LOCATION:Europe/Warsaw
BEGIN:STANDARD
DTSTART:20191027T020000
TZOFFSETFROM:+0200
TZOFFSETTO:+0100
TZNAME:CET
END:STANDARD
END:VTIMEZONE
END:VCALENDAR