BEGIN:VCALENDAR
VERSION:2.0
PRODID:-//wp-events-plugin.com//7.2.3.1//EN
TZID:Europe/Warsaw
X-WR-TIMEZONE:Europe/Warsaw
BEGIN:VEVENT
UID:31557@night4u.pl
DTSTART;TZID=Europe/Warsaw:20191107T220000
DTEND;TZID=Europe/Warsaw:20191108T030000
DTSTAMP:20191107T215604Z
URL:https://night4u.pl/wydarzenia/ronnie-ferrari-x-ona-by-tak-chciala-x-cz
 wartek-7-11-teatr-club/
SUMMARY:Ronnie Ferrari x Ona by tak chciała x Czwartek// 7.11 TEATR CLUB
DESCRIPTION:RONNIE FERRARI na #moniuszki4a !!\nLive on stage \nSTUDENCKI cz
 wartek!\n7 LISTOPADA !! \n \nW CZWARTEK 7 LISTOPADA wystąpi -- Ronnie Fer
 rari --  \nAutor najczęściej granego hitu :\n^^ ONA BY TAK CHCIAŁA (Exp
 licit) ^^\n\n^^ PIJEMY BY ZAPOMNIEĆ - Ronnie Ferrari ft. Locke\n^^ ZAPALI
 MY SZCZĘŚCIE \n\nKlikajcie wezmę udział / udostępniajcie wydarzenie -
 \n Będziemy losować bilety &lt\;3 \n\nBezpłatne rezerwacje: 508-508-488
 .\n\n______________________________________________\n\nStart: 22:00 \nDres
 s code: --\nBilety:  do 23:00 15 zł\, po 23:00 20 zł \nSTUDENCI 10 zł\n
 \nWstęp / +18\nVIP CARD - CAŁĄ NOC FREE\nRezerwacje:\ntel.: +48 508 508
  488
ATTACH;FMTTYPE=image/jpeg:https://night4u.pl/wp-content/uploads/2019/10/73
 894_image_72703116_2428614884084447_5519588344696143872_o.jpg
CATEGORIES:łódzkie
LOCATION:Teatr Club - Łódź\, Moniuszki 4a\, Łódź\, 90-111\, Poland
GEO:51.768714;19.457977
X-APPLE-STRUCTURED-LOCATION;VALUE=URI;X-ADDRESS=Moniuszki 4a\, Łódź\, 90
 -111\, Poland;X-APPLE-RADIUS=100;X-TITLE=Teatr Club - Łódź:geo:51.76871
 4,19.457977
END:VEVENT
BEGIN:VTIMEZONE
TZID:Europe/Warsaw
X-LIC-LOCATION:Europe/Warsaw
BEGIN:STANDARD
DTSTART:20191027T020000
TZOFFSETFROM:+0200
TZOFFSETTO:+0100
TZNAME:CET
END:STANDARD
END:VTIMEZONE
END:VCALENDAR