BEGIN:VCALENDAR
VERSION:2.0
PRODID:-//wp-events-plugin.com//7.2.3.1//EN
TZID:Europe/Warsaw
X-WR-TIMEZONE:Europe/Warsaw
BEGIN:VEVENT
UID:23843@night4u.pl
DTSTART;TZID=Europe/Warsaw:20190815T223000
DTEND;TZID=Europe/Warsaw:20190816T073000
DTSTAMP:20190802T103327Z
URL:https://night4u.pl/wydarzenia/roof-party-after-x-prozak-2-0/
SUMMARY:Roof Party After x Prozak 2.0
DESCRIPTION:W ten czwartek wyjątkowo otworzymy dla Was scenę -2\, aby wsp
 ólnie rozpłynąć się przy elektronicznych dźwiękach po Roof Party x 
 An On Bast live serwowanych przez najlepszych z najlepszych - Roger reprez
 entujący cykl this.place oraz nasi dwaj rezydenci: stary Discox i młody 
 Matthew Ka ?\n\n[-2] Roof Party AFTERPARTY\nRoger\nDiscox\nMatthew Ka\n\nD
 o 23:00: wejście FREE dla osób “biorących udział” w wydarzeniu.\nP
 o 23:00: 10/ 20 PLN.\n\n---\n\nThis thursday we’ll exceptionally open -2
  stage\, to dance till the dawn after the Roof Party x An On Bast live eve
 nt\, among the best music served by the best of the best - Roger represent
 ing this.place series and two of our residents - old Discox and young Matt
 hew Ka ?\n\n[-2] Roof Party AFTERPARTY\nRoger\nDiscox\nMatthew Ka\n\nBy 11
 :00pm: FREE entry for Facebook “going” list.\nAfter 11:00pm: 10/ 20 PL
 N.
ATTACH;FMTTYPE=image/jpeg:https://night4u.pl/wp-content/uploads/2019/08/56
 248_image_67283834_2413798725347529_272762051435167744_o.jpg
CATEGORIES:małopolskie
LOCATION:Prozak 2.0\, Plac Dominikański 6\, Kraków\, 31-032\, Poland
GEO:50.058986;19.938203
X-APPLE-STRUCTURED-LOCATION;VALUE=URI;X-ADDRESS=Plac Dominikański 6\, Krak
 ów\, 31-032\, Poland;X-APPLE-RADIUS=100;X-TITLE=Prozak 2.0:geo:50.058986,
 19.938203
END:VEVENT
BEGIN:VTIMEZONE
TZID:Europe/Warsaw
X-LIC-LOCATION:Europe/Warsaw
BEGIN:DAYLIGHT
DTSTART:20190331T030000
TZOFFSETFROM:+0100
TZOFFSETTO:+0200
TZNAME:CEST
END:DAYLIGHT
END:VTIMEZONE
END:VCALENDAR