BEGIN:VCALENDAR
VERSION:2.0
PRODID:-//wp-events-plugin.com//7.2.3.1//EN
TZID:Europe/Warsaw
X-WR-TIMEZONE:Europe/Warsaw
BEGIN:VEVENT
UID:22979@night4u.pl
DTSTART;TZID=Europe/Warsaw:20190803T160000
DTEND;TZID=Europe/Warsaw:20190803T220000
DTSTAMP:20190724T170352Z
URL:https://night4u.pl/wydarzenia/roof-party-x-an-on-bast-live/
SUMMARY:Roof Party x An On Bast live
DESCRIPTION:Do końca sezonu zostały już tylko trzy wydarzenia\, co oznac
 za dwie rzeczy: my zrobimy wszystko\, żeby lato 2019 zwieńczyć najlepsz
 ymi imprezami\, a Wy nie powinniście ich przegapić\, bo to ostatnie w ty
 m roku chwile na dachu. Idąc tym tropem\, zapraszamy na live act jednej z
  najbardziej cenionych polskich producentek\, czyli An On Bast wspieranej 
 przez Lucjana i Blezza.\n\nAn On Bast\, czyli Anna Suda\, tworzy od kilkun
 astu lat i w tym czasie wydała mnóstwo muzyki o różnych odcieniach tec
 hno\, ambientu\, a nawet klasyki. Zagrała na chyba wszystkich liczących 
 się polskich festiwalach oraz na bardzo wielu zagranicznych\, jak choćby
  na Sonarze\, Fusion\, Nachtdigital czy Piknic Électronik Melbourne. Nic 
 dziwnego\, skoro poza polską o jej bookingi dba ta sama agencja\, która 
 opiekuje się takimi artystami\, jak Claptone\, Re.You czy Tim Green.\n\nN
 a Roof Party An On Bast wystąpi w wersji live\, czyli w towarzystwie masy
  elektronicznego sprzętu\, z którego wydobywa nie tylko oryginalne brzmi
 enia\, lecz także piekielnie dużo energii. Po zakończeniu jej występu 
 zapraszamy na afterparty do klubu Prozak 2.0\, gdzie osoby z opaskami z da
 chu mają bezpłatny wstęp.\n\nWYSTĄPIĄ:\nAn On Bast live\nLucjan\nBlez
 z\n\nBILETY: https://goingapp.pl/evt/2140100/roof-party-x-an-on-bast-live\
 nI pula: 29 zł (do wyczerpania)\nII pula: 39 zł (do wyczerpania)\nIII pu
 la: 49 zł (do wyczerpania)\nCena na bramce: 49 zł (o ile wcześniej wej
 ściówki się nie wyprzedadzą)\n\nPrzedsprzedaż kończy się 2 sierpnia
  o 23:59 lub po wcześniejszym wyprzedaniu wszystkich biletów.\n\n____EN_
 ____\nThere are only three events until season ends\, which means two thin
 gs. First\, we will do everything to finish the summer with the best parti
 es possible\, and second - you should not miss them\, because these will b
 e the last moments on our roof in 2019. With that said\, we invite you to 
 the live act of one of the most esteemed Polish producers\, An On Bast sup
 ported by Lucjan and Blezz.\n\nAn On Bast\, aka Anna Suda\, has been recor
 ding for over a dozen years and during this time has released loads music 
 that could be labeled techno\, ambient and even classical. She played prob
 ably at all the major Polish festivals and many foreign ones\, such as Son
 ar\, Fusion\, Nachtdigital or Piknic Électronik Melbourne. No wonder\, si
 nce outside of Poland\, her bookings are managed by the same agency that d
 oes it for Claptone\, Re.You or Tim Green among others.\n\nAt Roof Party s
 he will perform live\, in the company of a variety of electronic hardware\
 , from which she gets not only unique sound but also enormous amounts of e
 nergy. After An’s gig is finished\, we invite you to the afterparty at P
 rozak 2.0 club\, where people with our wristbands have free admission on t
 hat night.\n\nLINE UP:\nAn On Bast live\nLucjan\nBlezz\n\nTICKETS: https:/
 /goingapp.pl/evt/2140100/roof-party-x-an-on-bast-live\n1st batch: 29 PLN (
 limited number)\n2nd batch: 39 PLN (limited number)\n3rd batch: 49 PLN (li
 mited number)\nAt the door: 49 PLN (unless the tickets sell out first)\n\n
 Presale ends on August 2\, 23:59 or earlier if the tickets sell out first.
ATTACH;FMTTYPE=image/jpeg:https://night4u.pl/wp-content/uploads/2019/07/54
 303_image_67327920_2157105711081498_2572450484182843392_o.jpg
CATEGORIES:małopolskie
LOCATION:Hotel Poleski\, ul. Sandomierska 6\, Kraków\, 30-310\, Poland
GEO:50.05191;19.93144
X-APPLE-STRUCTURED-LOCATION;VALUE=URI;X-ADDRESS=ul. Sandomierska 6\, Krakó
 w\, 30-310\, Poland;X-APPLE-RADIUS=100;X-TITLE=Hotel Poleski:geo:50.05191,
 19.93144
END:VEVENT
BEGIN:VTIMEZONE
TZID:Europe/Warsaw
X-LIC-LOCATION:Europe/Warsaw
BEGIN:DAYLIGHT
DTSTART:20190331T030000
TZOFFSETFROM:+0100
TZOFFSETTO:+0200
TZNAME:CEST
END:DAYLIGHT
END:VTIMEZONE
END:VCALENDAR