BEGIN:VCALENDAR
VERSION:2.0
PRODID:-//wp-events-plugin.com//7.2.3.1//EN
TZID:Europe/Warsaw
X-WR-TIMEZONE:Europe/Warsaw
BEGIN:VEVENT
UID:18961@night4u.pl
DTSTART;TZID=Europe/Warsaw:20190615T210000
DTEND;TZID=Europe/Warsaw:20190616T060000
DTSTAMP:20190611T180509Z
URL:https://night4u.pl/wydarzenia/rooftop-sounds-ft-matthew-hill-15-06-do-
 2200-free/
SUMMARY:Rooftop Sounds ft. Matthew Hill // 15.06 // Do 22:00 free
DESCRIPTION:Spędź sobotni wieczór na najwyższym poziomie! \nROOFTOP SOU
 NDS to nowy cykl imprez na naszym dachu. Będziemy gościć najlepszych dj
 's z całej Polski. Od trapu\, twerku i footworku\, przez dancehall po hou
 se. Tego wieczoru odwiedzi nas znany już przez Was i lubiany\, ogromna en
 ergia -  Matthew Hill 
ATTACH;FMTTYPE=image/jpeg:https://night4u.pl/wp-content/uploads/2019/06/45
 863_image_62146226_2381392655237039_8594784722473713664_o.jpg
CATEGORIES:lubelskie
LOCATION:Riviera Klub Plażowy\, Lublin\, Poland
GEO:51.245225;22.557649
X-APPLE-STRUCTURED-LOCATION;VALUE=URI;X-ADDRESS=Lublin\, Poland;X-APPLE-RAD
 IUS=100;X-TITLE=Riviera Klub Plażowy:geo:51.245225,22.557649
END:VEVENT
BEGIN:VTIMEZONE
TZID:Europe/Warsaw
X-LIC-LOCATION:Europe/Warsaw
BEGIN:DAYLIGHT
DTSTART:20190331T030000
TZOFFSETFROM:+0100
TZOFFSETTO:+0200
TZNAME:CEST
END:DAYLIGHT
END:VTIMEZONE
END:VCALENDAR