BEGIN:VCALENDAR
VERSION:2.0
PRODID:-//wp-events-plugin.com//7.2.3.1//EN
TZID:Europe/Warsaw
X-WR-TIMEZONE:Europe/Warsaw
BEGIN:VEVENT
UID:10388@night4u.pl
DTSTART;TZID=Europe/Warsaw:20190330T220000
DTEND;TZID=Europe/Warsaw:20190331T050000
DTSTAMP:20190318T195522Z
URL:https://night4u.pl/wydarzenia/room-night-vision-all-stars/
SUMMARY:Room Night Vision | All Stars
DESCRIPTION:Mieliśmy sen - Wszyscy byli wolni i pełni szaleństwa. Sponta
 nicznie unosili się w przestrzeniach kreatywnej zabawy. Bez hamulców i p
 asów bezpieczeństwa. Bez oporów\, bez limitów - czysta odpinka wolnoś
 ci.\n\nTutaj nie usłyszysz klasycznych „No\, Stop\, Don’t”... Za to
  na pewno usłyszysz - „No\, Don’t Stop!” \n\nTej nocy gra swiateł 
 i wyselekcjonowana muzyka zabiorą Nas w podróż po najbardziej imprezowy
 ch zakątkach świata!\n\nLine:\n\nFAKTO\nLevy\nMadMike\nMichal Mjsax Jamr
 oz\n\nStart 22:13\nWstęp 20 PLN \nLista FB Free do 0:13\nSelekcja\n\nPatr
 onat Medialny\nRadio ESKA\n\n\nREZERWACJE \n+48 732 538 638\ninfo@room13.p
 l\n______________________\n\nwww.room13.pl\nfb.com/room13club\ninstagram.c
 om/room13club
ATTACH;FMTTYPE=image/jpeg:https://night4u.pl/wp-content/uploads/2019/03/27
 431_image_54436266_2372692209421156_3467298222995668992_o.jpg
CATEGORIES:mazowieckie
LOCATION:ROOM 13 Club\, ul. Mazowiecka 13\, Warsaw\, 00-052\, Poland
GEO:52.237999;21.012896
X-APPLE-STRUCTURED-LOCATION;VALUE=URI;X-ADDRESS=ul. Mazowiecka 13\, Warsaw\
 , 00-052\, Poland;X-APPLE-RADIUS=100;X-TITLE=ROOM 13 Club:geo:52.237999,21
 .012896
END:VEVENT
BEGIN:VTIMEZONE
TZID:Europe/Warsaw
X-LIC-LOCATION:Europe/Warsaw
BEGIN:STANDARD
DTSTART:20181028T020000
TZOFFSETFROM:+0200
TZOFFSETTO:+0100
TZNAME:CET
END:STANDARD
BEGIN:DAYLIGHT
DTSTART:20190331T030000
TZOFFSETFROM:+0100
TZOFFSETTO:+0200
TZNAME:CEST
END:DAYLIGHT
END:VTIMEZONE
END:VCALENDAR