BEGIN:VCALENDAR
VERSION:2.0
PRODID:-//wp-events-plugin.com//7.2.3.1//EN
TZID:Europe/Warsaw
X-WR-TIMEZONE:Europe/Warsaw
BEGIN:VEVENT
UID:27044@night4u.pl
DTSTART;TZID=Europe/Warsaw:20191122T200000
DTEND;TZID=Europe/Warsaw:20191122T230000
DTSTAMP:20200401T084232Z
URL:https://night4u.pl/wydarzenia/rottin-green-tba-fabryka-zielona-gora/
SUMMARY:Rottin' Green + 4Dziki - Fabryka\, Zielona Góra
DESCRIPTION:Rzuć wszystko i rusz z nami w psychodeliczną podróż do... n
 ikąd! \nATOMIC TRIP TOUR to seria koncertów promujących naszą nową p
 łytę ATOMIC TRIP\, która wystrzeli Cię prosto w przestrzeń kosmiczną
  (AKA WYPIERDOLI CIĘ W KOSMOS).\nWsiadaj do naszego cadillaca i daj się 
 porwać atomowej energii. \n\nROTTIN' GREEN (stoner rock)\n\nROTTIN' GREEN
  to trio z Susza którego znakiem rozpoznawczym jest MOCNY PAPIEROS i pias
 zczyste riffy. Tworzą je Qba (bas/wokal)\, Sahar (gitara/wokal)\, Suchy (
 bębny).\nW 2016 roku zespół wydał debiutancki album BREAK THE CHAINS o
 sadzony w grunge'owym klimacie lat 90'\, który był promowany na trasie k
 oncertowej ROTTIN' 2018 TOUR w Polsce i za granicą.\nOd 2019 roku\, w ram
 ach trasy koncertowej ATOMIC TRIP TOUR\, promowana jest nowa płyta zatytu
 łowana "ATOMIC TRIP".\n\n4DZIKI (rock)\nWielki mistrz Faja Dzika powiedzi
 ał: Cztery są żywioły\, 4 browary w czteropaku\, cztery cycki krowy\, 
 dziki niech też 4 będą choć w sile 6.\n\n4 od zawsze jest dla nas cyfr
 a mistyczną\, jest dla nas kierunkiem\, który wyszedł od wieszcza nasze
 go Jacusia! Rzekł on bowiem\, że jego numer 440 i 4\n6 nierozłącznych 
 przyjaciół\, 5 nierozłącznych pasków na dupie\, 4dziki - bo o nich mo
 wa\, to zespół z Wrocławia\, grający autorskie utwory\, w stylu 3 akor
 dy darcie mordy lub (jak sami to określają) #punkopolo\n\nW dniu\, w kt
 órym świnia ujrzy niebo rozstąpią się nogi najcnotliwszych dziewic.\n
 Strzeżcie się ! Legendarny dzień nadejdzie!\nKu chwale dziczyzny!\n\nht
 tps://www.youtube.com/watch?v=vNolonPKink
ATTACH;FMTTYPE=image/jpeg:https://night4u.pl/wp-content/uploads/2019/11/63
 054_image_75264954_2140944342875078_3219518621931798528_o.jpg
CATEGORIES:lubuskie
LOCATION:Fabryka\, ul. Moniuszki 16\, Zielona Góra\, 65-001\, Poland
GEO:51.93424;15.50022
X-APPLE-STRUCTURED-LOCATION;VALUE=URI;X-ADDRESS=ul. Moniuszki 16\, Zielona 
 Góra\, 65-001\, Poland;X-APPLE-RADIUS=100;X-TITLE=Fabryka:geo:51.93424,15
 .50022
END:VEVENT
BEGIN:VTIMEZONE
TZID:Europe/Warsaw
X-LIC-LOCATION:Europe/Warsaw
BEGIN:STANDARD
DTSTART:20191027T020000
TZOFFSETFROM:+0200
TZOFFSETTO:+0100
TZNAME:CET
END:STANDARD
END:VTIMEZONE
END:VCALENDAR