BEGIN:VCALENDAR
VERSION:2.0
PRODID:-//wp-events-plugin.com//7.2.3.1//EN
TZID:Europe/Warsaw
X-WR-TIMEZONE:Europe/Warsaw
BEGIN:VEVENT
UID:51773@night4u.pl
DTSTART;TZID=Europe/Warsaw:20250406T200000
DTEND;TZID=Europe/Warsaw:20250406T230000
DTSTAMP:20241217T213339Z
URL:https://night4u.pl/wydarzenia/roxie-wegiel-break-tour-6-04-2025-lublin
 /
SUMMARY:Roxie Węgiel • Break Tour • 6.04.2025 • Lublin
DESCRIPTION:To będzie wiosna pełna najlepszego popu - Roxie Węgiel wraca
  z nowymi terminami trasy koncertowej Break Tour. Artystka przygotowała d
 la swoich fanów show muzyczno-taneczne\, łącząc obydwie pasje\, sprawi
 ając\, że scena zapłonie!\n\nKiedy? 6 kwietnia 2025\nGdzie? Lublin\, Ra
 dio Lublin\nOtwarcie bram: 18:30\nStart koncertu: 20:00\nM&amp\;G odbędzi
 e się po koncercie.\n\nBilety: https://www.eventim.pl/artist/roksana-wegi
 el/roxie-wegiel-break-tour-2024-3606658/?affiliate=1DM\n\nPatroni medialni
 : RMF Maxx\, 4FUN. TV\, Wirtualna Polska\nOrganizator: DM Agency
ATTACH;FMTTYPE=image/jpeg:https://night4u.pl/wp-content/uploads/2024/12/Ro
 xie-Wegiel-•-Break-Tour-•-6.04.2025-•-Lublin.jpg
CATEGORIES:lubelskie
LOCATION:Radio Lublin\, Radio Lublin\, 
X-APPLE-STRUCTURED-LOCATION;VALUE=URI;X-ADDRESS=Radio Lublin\, ;X-APPLE-RAD
 IUS=100;X-TITLE=Radio Lublin:geo:0,0
END:VEVENT
BEGIN:VTIMEZONE
TZID:Europe/Warsaw
X-LIC-LOCATION:Europe/Warsaw
BEGIN:DAYLIGHT
DTSTART:20250330T030000
TZOFFSETFROM:+0100
TZOFFSETTO:+0200
TZNAME:CEST
END:DAYLIGHT
END:VTIMEZONE
END:VCALENDAR